BEGIN:VCALENDAR
VERSION:2.0
PRODID:-//The Missing Piece - ECPv6.15.16//NONSGML v1.0//EN
CALSCALE:GREGORIAN
METHOD:PUBLISH
X-WR-CALNAME:The Missing Piece
X-ORIGINAL-URL:https://www.themissingpiecegames.com
X-WR-CALDESC:Events for The Missing Piece
REFRESH-INTERVAL;VALUE=DURATION:PT1H
X-Robots-Tag:noindex
X-PUBLISHED-TTL:PT1H
BEGIN:VTIMEZONE
TZID:America/Los_Angeles
BEGIN:DAYLIGHT
TZOFFSETFROM:-0800
TZOFFSETTO:-0700
TZNAME:PDT
DTSTART:20250309T100000
END:DAYLIGHT
BEGIN:STANDARD
TZOFFSETFROM:-0700
TZOFFSETTO:-0800
TZNAME:PST
DTSTART:20251102T090000
END:STANDARD
BEGIN:DAYLIGHT
TZOFFSETFROM:-0800
TZOFFSETTO:-0700
TZNAME:PDT
DTSTART:20260308T100000
END:DAYLIGHT
BEGIN:STANDARD
TZOFFSETFROM:-0700
TZOFFSETTO:-0800
TZNAME:PST
DTSTART:20261101T090000
END:STANDARD
BEGIN:DAYLIGHT
TZOFFSETFROM:-0800
TZOFFSETTO:-0700
TZNAME:PDT
DTSTART:20270314T100000
END:DAYLIGHT
BEGIN:STANDARD
TZOFFSETFROM:-0700
TZOFFSETTO:-0800
TZNAME:PST
DTSTART:20271107T090000
END:STANDARD
END:VTIMEZONE
BEGIN:VEVENT
DTSTART;TZID=America/Los_Angeles:20260422T140000
DTEND;TZID=America/Los_Angeles:20260422T170000
DTSTAMP:20260422T030031
CREATED:20230618T210626Z
LAST-MODIFIED:20260329T222705Z
UID:10004021-1776866400-1776877200@www.themissingpiecegames.com
SUMMARY:American Mah Jongg
DESCRIPTION:All playing levels welcome! We are an open\, friendly group of experienced and newer players who play American Mah Jongg and follow NMJL rules. Please bring a current NMJL card with you. If you don’t have one\, someone usually has an extra card to loan out. For more info email Stacey Rea: stacey1955@gmail.com.
URL:https://www.themissingpiecegames.com/event/american-mah-jongg-2/2026-04-22/
LOCATION:The Missing Piece\, 4707 California Ave SW B\, Seattle\, WA\, 98116\, United States
CATEGORIES:General
ORGANIZER;CN="Stacey Rea":MAILTO:stacey1955@gmail.com
END:VEVENT
END:VCALENDAR