BEGIN:VCALENDAR
VERSION:2.0
PRODID:-//The Missing Piece - ECPv6.15.16//NONSGML v1.0//EN
CALSCALE:GREGORIAN
METHOD:PUBLISH
X-WR-CALNAME:The Missing Piece
X-ORIGINAL-URL:https://www.themissingpiecegames.com
X-WR-CALDESC:Events for The Missing Piece
REFRESH-INTERVAL;VALUE=DURATION:PT1H
X-Robots-Tag:noindex
X-PUBLISHED-TTL:PT1H
BEGIN:VTIMEZONE
TZID:America/Los_Angeles
BEGIN:DAYLIGHT
TZOFFSETFROM:-0800
TZOFFSETTO:-0700
TZNAME:PDT
DTSTART:20210314T100000
END:DAYLIGHT
BEGIN:STANDARD
TZOFFSETFROM:-0700
TZOFFSETTO:-0800
TZNAME:PST
DTSTART:20211107T090000
END:STANDARD
BEGIN:DAYLIGHT
TZOFFSETFROM:-0800
TZOFFSETTO:-0700
TZNAME:PDT
DTSTART:20220313T100000
END:DAYLIGHT
BEGIN:STANDARD
TZOFFSETFROM:-0700
TZOFFSETTO:-0800
TZNAME:PST
DTSTART:20221106T090000
END:STANDARD
BEGIN:DAYLIGHT
TZOFFSETFROM:-0800
TZOFFSETTO:-0700
TZNAME:PDT
DTSTART:20230312T100000
END:DAYLIGHT
BEGIN:STANDARD
TZOFFSETFROM:-0700
TZOFFSETTO:-0800
TZNAME:PST
DTSTART:20231105T090000
END:STANDARD
END:VTIMEZONE
BEGIN:VEVENT
DTSTART;VALUE=DATE:20221001
DTEND;VALUE=DATE:20221003
DTSTAMP:20260420T164825
CREATED:20220826T001452Z
LAST-MODIFIED:20220826T001526Z
UID:10003657-1664582400-1664755199@www.themissingpiecegames.com
SUMMARY:Birthday Bash!
DESCRIPTION:
URL:https://www.themissingpiecegames.com/event/the-missing-pieces-birthday-bash/
LOCATION:The Missing Piece\, 4707 California Ave SW B\, Seattle\, WA\, 98116\, United States
CATEGORIES:General
ORGANIZER;CN="The Missing Piece Games":MAILTO:hello@themissingpiecegames.com
END:VEVENT
BEGIN:VEVENT
DTSTART;TZID=America/Los_Angeles:20221003T153000
DTEND;TZID=America/Los_Angeles:20221003T190000
DTSTAMP:20260420T164825
CREATED:20220922T234458Z
LAST-MODIFIED:20220922T234458Z
UID:10003396-1664811000-1664823600@www.themissingpiecegames.com
SUMMARY:Dungeons & Dragons (for Middle Schoolers)
DESCRIPTION:Every Monday from 3:30p until 7p an experienced Dungeon Master will be running a D&D adventure for players with “little to no experience” in mind. Five (5) players maximum. \nSignups on a first come\, first served basis. \nWhat To Expect: The first thing your middle-schooler will do is create a character at the table right before they start their adventure\, so no pre-generated characters allowed.  All player characters are Human\, all Classes from the Players Handbook\, and no evil characters or character concepts. \nThe DM will guide all players through the procedures of rolling dice and role-playing a character. Every plot will have “PG” themes including heroism\, teamwork\, overcoming adversity\, creative problem-solving\, grace under pressure\, and honor. \nTo Be Ready for the Game: Players are encouraged\, to bring their own dice\, paper (eg. a journal)\, and/or pencils. Players are also encouraged to own a copy of the Player’s Handbook D&D 5th edition. Dice and Player’s Handbooks are available for purchase at The Missing Piece. \nCode of Conduct: The DM will require all players to show respect to everyone in the room\, and will encourage being patient\, listening to others\, and willing collaboration. The DM will not allow abusive language\, derogatory terms\, or “I was just joking” aimed at anyone in the room\, (although monsters and villains are fair game.) The DM will base all adventures in the Dungeons & Dragons 5th Edition world. The use of violence\, dishonesty\, conniving\, and magic allowed only in role play (& roll play). The DM may or may not give second chances. \nPlayers are required to have all cell phones\, tablets\, & laptops turned off during gameplay. \nThe phone number of a parent (or responsible adult) is required by the DM prior to the game starting. A parent is required to indicate if a minor child is or is not allowed to walk home unescorted from the shop. \n 
URL:https://www.themissingpiecegames.com/event/dungeons-dragons-for-middle-schoolers-25/
LOCATION:The Missing Piece\, 4707 California Ave SW B\, Seattle\, WA\, 98116\, United States
CATEGORIES:Roleplaying
ATTACH;FMTTYPE=image/png:https://www.themissingpiecegames.com/wp-content/uploads/2022/07/TMP_Youth_DND_Events_104671-1.png
ORGANIZER;CN="The Missing Piece Games":MAILTO:hello@themissingpiecegames.com
END:VEVENT
BEGIN:VEVENT
DTSTART;TZID=America/Los_Angeles:20221005T173000
DTEND;TZID=America/Los_Angeles:20221005T235900
DTSTAMP:20260420T164825
CREATED:20220922T225851Z
LAST-MODIFIED:20220922T225851Z
UID:10003662-1664991000-1665014340@www.themissingpiecegames.com
SUMMARY:Private Event: Smashed to Pieces
DESCRIPTION:Every other Wednesday at the Missing Piece\, there is a private tournament for Super Smash Bros Ultimate.  There will be limited seating (2 tables) available for general use on these events.  The store will remain fully open for to-go cafe orders and game shopping as well.  If you you are interested in participating in the tournament you are welcome to sign up through the host’s website at: https://smash.gg/tournament/smashed-to-pieces-28/details \n  \nTournament details and instructions for sign up: \n\nTournament fee is $16\nRead the event details on smash.gg\nCreate an account on smash.gg using an active email\, it is free and you will not receive any spam or solicitation from the site\, only information and updates pertaining to events you have signed up for.\nClick on register and select the Super Smash Bros Ultimate event. Select pay at the venue.\nIf you sign up but are unable to attend\, please message Goose on Twitter\, Facebook or Discord with the email you used to sign up so you can be removed from the bracket.\nAny questions or concerns? Please reach out to Goose\, the tournament organizer via discord\, twitter\, or fb\, all listed below.\n\n  \nGoose’s contact info: \nFacebook: https://www.facebook.com/bngose\nTwitter: https://twitter.com/GooseGusty\nDiscord: https://discord.gg/fJ8qTCq \n 
URL:https://www.themissingpiecegames.com/event/private-event-smashed-to-pieces-26/
LOCATION:The Missing Piece\, 4707 California Ave SW B\, Seattle\, WA\, 98116\, United States
CATEGORIES:General
ATTACH;FMTTYPE=image/png:https://www.themissingpiecegames.com/wp-content/uploads/2021/09/Untitled.png
END:VEVENT
BEGIN:VEVENT
DTSTART;TZID=America/Los_Angeles:20221007T173000
DTEND;TZID=America/Los_Angeles:20221007T220000
DTSTAMP:20260420T164825
CREATED:20220917T170229Z
LAST-MODIFIED:20220917T170229Z
UID:10003660-1665163800-1665180000@www.themissingpiecegames.com
SUMMARY:Friday Night Magic: UnFinity Draft
DESCRIPTION:Is everything coming Unglued? Feeling a little Unhinged? Well have no fear! We at The Missing Piece are here to help take away that Unstable feeling with a special draft event. Don’t worry about whether or not it’s Unsanctioned though\, cause we’ll be going to Unfinity and BEYOND! \nLike any draft\, players will get 3 booster packs to open one at a time\, pick 1 card\, and pass the rest to the next player. What will be different is how many of the cards interact with each other\, as well as other players\, and who knows what else! Unfinity marks the first time that an Un-Set is printed with black borders. To tell if a card is legal for play in other formats\, look for an acorn-shaped icon at the bottom of the card. If that’s there\, then that card is NOT legal to use in formats like Modern or Commander. \n5:30pm – Registration begins for players that didn’t already sign up for the event through our website. \n6:00pm – Drafting and deck building begins. We start promptly at 6\, so please be sure to get to the shop with enough time to order any food or drinks you might want before hand. \n6:50pm – Rounds begin. There will be three 50-minute rounds where players will play a best-two-out-of-three match. \nAround 9:45pm – Prizes are awarded! 1st\, 2nd\, and 3rd place will receive Booster Packs. 4th\, 5th\, 6th\, 7th\, and 8th place will get Promo Packs. All participants will get a promotional Magic card as well as a special card to use during our Piecing It Together events on Sundays!
URL:https://www.themissingpiecegames.com/event/friday-night-magic-unfinity-draft/
LOCATION:The Missing Piece\, 4707 California Ave SW B\, Seattle\, WA\, 98116\, United States
CATEGORIES:Collectable Card Games
ATTACH;FMTTYPE=image/jpeg:https://www.themissingpiecegames.com/wp-content/uploads/2022/09/Unfinity..jpg
ORGANIZER;CN="The Missing Piece Games":MAILTO:hello@themissingpiecegames.com
END:VEVENT
BEGIN:VEVENT
DTSTART;TZID=America/Los_Angeles:20221008T130000
DTEND;TZID=America/Los_Angeles:20221008T160000
DTSTAMP:20260420T164825
CREATED:20220923T002440Z
LAST-MODIFIED:20220923T002440Z
UID:10003403-1665234000-1665244800@www.themissingpiecegames.com
SUMMARY:Free Play Pokemon
DESCRIPTION:Looking to become the very best\, like no one ever was? Then we challenge all trainers to gather at The Missing Piece and evolve their Pokemon TCG skills! This event is hosted by local Poke-maniacs to both introduce new-comers to the game as well as give experienced players a place to get in more games. \nSo come on in\, grab a drink\, and get ready to battle! \n 
URL:https://www.themissingpiecegames.com/event/free-play-pokemon-11/
LOCATION:9456 35th Ave SW\, Seattle\, WA\, 98126\, United States
CATEGORIES:Collectable Card Games
END:VEVENT
BEGIN:VEVENT
DTSTART;TZID=America/Los_Angeles:20221014T173000
DTEND;TZID=America/Los_Angeles:20221014T220000
DTSTAMP:20260420T164825
CREATED:20220917T173342Z
LAST-MODIFIED:20220917T173342Z
UID:10003661-1665768600-1665784800@www.themissingpiecegames.com
SUMMARY:Friday Night Magic Community Cube
DESCRIPTION:Join in the fun as The Missing Piece’s welcoming Magic community drafts and modifies the in-shop cube! Instead of an entry fee for the event\, players bring 11 cards to add to the Community Cube before the draft begins. \n5:30pm – Registration begins. \n6:00pm – Drafting and Deckbuilding begins. Drafting will begin promptly at 6\, so make sure you arrive with enough time to register and buy any food or drink you may want to have beforehand. \n6:50pm – Pairings and Rounds begin. There will be three 50 minute rounds. \nAround 9:45pm – Prizes are awarded! All participants will get to take 11 cards from the cards they drafted during the event\, and can expect to receive an additional promotional Magic card. 1st place\, however\, will get to look through the entire cube to select their prizes. Players will also get a special card to use during our Piecing It Together event on Sundays.
URL:https://www.themissingpiecegames.com/event/friday-night-magic-community-cube-10/
LOCATION:The Missing Piece\, 4707 California Ave SW B\, Seattle\, WA\, 98116\, United States
CATEGORIES:Collectable Card Games
ORGANIZER;CN="The Missing Piece Games":MAILTO:hello@themissingpiecegames.com
END:VEVENT
BEGIN:VEVENT
DTSTART;TZID=America/Los_Angeles:20221019T173000
DTEND;TZID=America/Los_Angeles:20221019T235900
DTSTAMP:20260420T164825
CREATED:20220922T230544Z
LAST-MODIFIED:20220922T230544Z
UID:10003663-1666200600-1666223940@www.themissingpiecegames.com
SUMMARY:Private Event: Smashed to Pieces
DESCRIPTION:Every other Wednesday at the Missing Piece\, there is a private tournament for Super Smash Bros Ultimate.  There will be limited seating (2 tables) available for general use on these events.  The store will remain fully open for to-go cafe orders and game shopping as well.  If you you are interested in participating in the tournament you are welcome to sign up through the host’s website at: https://smash.gg/tournament/smashed-to-pieces-29/details \n  \nTournament details and instructions for sign up: \n\nTournament fee is $16\nRead the event details on smash.gg\nCreate an account on smash.gg using an active email\, it is free and you will not receive any spam or solicitation from the site\, only information and updates pertaining to events you have signed up for.\nClick on register and select the Super Smash Bros Ultimate event. Select pay at the venue.\nIf you sign up but are unable to attend\, please message Goose on Twitter\, Facebook or Discord with the email you used to sign up so you can be removed from the bracket.\nAny questions or concerns? Please reach out to Goose\, the tournament organizer via discord\, twitter\, or fb\, all listed below.\n\n  \nGoose’s contact info: \nFacebook: https://www.facebook.com/bngose\nTwitter: https://twitter.com/GooseGusty\nDiscord: https://discord.gg/fJ8qTCq \n 
URL:https://www.themissingpiecegames.com/event/private-event-smashed-to-pieces-27/
LOCATION:The Missing Piece\, 4707 California Ave SW B\, Seattle\, WA\, 98116\, United States
CATEGORIES:General
ATTACH;FMTTYPE=image/png:https://www.themissingpiecegames.com/wp-content/uploads/2021/09/Untitled.png
END:VEVENT
BEGIN:VEVENT
DTSTART;TZID=America/Los_Angeles:20221021T173000
DTEND;TZID=America/Los_Angeles:20221021T220000
DTSTAMP:20260420T164825
CREATED:20221006T162042Z
LAST-MODIFIED:20221006T162042Z
UID:10003405-1666373400-1666389600@www.themissingpiecegames.com
SUMMARY:Friday Night Magic: Commander
DESCRIPTION:Welcome Planeswalkers! Bring your favorite deck and see how you fair against everyone else in the chaotic battlefield of Commander! \n5:30 – Registration begins for players that didn’t register on our website. This is also a great time to grab some food and drinks while you’re waiting for the event to begin. \n6:00pm – Rounds begin! There will be two 90 minute rounds\, during which\, players will compete for achievement points. Points will carry over from round to round and determine what prizes a player is awarded. \nAround 9:00pm – Prizes are awarded! 1st\, 2nd\, and 3rd place will get booster packs. 4th\, 5th\, 6th\, 7th\, and 8th will get Promo Packs\, and all players will receive a promotional Magic card* as well as an Eye of Newt card that can be used during our Brewing It Together events on Sundays! \n* While supplies last.
URL:https://www.themissingpiecegames.com/event/friday-night-magic-commander-15/
LOCATION:The Missing Piece\, 4707 California Ave SW B\, Seattle\, WA\, 98116\, United States
CATEGORIES:Collectable Card Games
ORGANIZER;CN="The Missing Piece Games":MAILTO:hello@themissingpiecegames.com
END:VEVENT
BEGIN:VEVENT
DTSTART;TZID=America/Los_Angeles:20221028T173000
DTEND;TZID=America/Los_Angeles:20221028T220000
DTSTAMP:20260420T164825
CREATED:20221006T164330Z
LAST-MODIFIED:20221019T210733Z
UID:10003407-1666978200-1666994400@www.themissingpiecegames.com
SUMMARY:Friday Night Magic: Halloween Commander
DESCRIPTION:Welcome Planeswalkers! Now that the Spooky Season is in full swing\, and All Hallows Eve is upon us\, we at The Missing Piece wanted to celebrate by adding some Halloween flare to this week’s Commander night by making it a costumed event! Costumes will be completely optional\, and there’s no special deck-building restrictions\, but players who come in costume\, and players who bring a suitably Halloween-themed deck will receive bonus points that go towards their ranking at the end of the event! Some examples of a Halloween theme would be having a Zombie Tribal deck\, or incorporating mechanics into your deck to that feel like trick-or-treating. \n5:30 – Registration begins for players that didn’t register on our website. This is also a great time to grab some food and drinks while you’re waiting for the event to begin. \n6:00pm – Rounds begin! There will be two 90 minute rounds\, during which\, players will compete for achievement points. Points will carry over from round to round and determine what prizes a player is awarded. \nAround 9:00pm – Prizes are awarded! 1st\, 2nd\, and 3rd place will get booster packs. 4th\, 5th\, 6th\, 7th\, and 8th will get Promo Packs\, and all players will receive a promotional Magic card* as well as an Eye of Newt card that can be used during our Brewing It Together events on Sundays! \n* While supplies last.
URL:https://www.themissingpiecegames.com/event/friday-night-magic-halloween-commander/
LOCATION:The Missing Piece\, 4707 California Ave SW B\, Seattle\, WA\, 98116\, United States
CATEGORIES:Collectable Card Games
ATTACH;FMTTYPE=image/jpeg:https://www.themissingpiecegames.com/wp-content/uploads/2022/10/All_Hallows_Eve-e1665074065951.jpg
ORGANIZER;CN="The Missing Piece Games":MAILTO:hello@themissingpiecegames.com
END:VEVENT
BEGIN:VEVENT
DTSTART;TZID=America/Los_Angeles:20221029T113000
DTEND;TZID=America/Los_Angeles:20221029T160000
DTSTAMP:20260420T164825
CREATED:20221012T010410Z
LAST-MODIFIED:20221012T010410Z
UID:10003678-1667043000-1667059200@www.themissingpiecegames.com
SUMMARY:Pokemon Silver Tempest: Pre-release Tournament
DESCRIPTION:Welcome Pokémon Trainers! You’ve been challenged to battle it out at The Missing Piece where we’re celebrating the release of the new Silver Tempest set for the Pokémon TCG! \nPlease sign up ahead of time on this page\, or at the register in store. Drinks and food available for purchase\, but please be ready to go at noon! \n12:00pm – Deckbuilding begins! Players will have 30 minutes to build a 40 card deck. Prerelease kits contain a premade deck and 5 booster packs. You can use any cards you pull from these packs to alter the deck as you see fit. You will also receive extra booster packs on us (amount depends on number of attendees). \n12:30pm – Round 1 begins! The event has three 50-minute rounds. Players will play a best-of-three match where they set up the game with 4 prize cards instead of the usual 6. \nAround 4:00pm – Prizes will be awarded!
URL:https://www.themissingpiecegames.com/event/pokemon-silver-tempest-pre-release-tournament/
LOCATION:The Missing Piece\, 4707 California Ave SW B\, Seattle\, WA\, 98116\, United States
CATEGORIES:Collectable Card Games
ATTACH;FMTTYPE=image/jpeg:https://www.themissingpiecegames.com/wp-content/uploads/2022/10/silver-tempest.jpg
ORGANIZER;CN="The Missing Piece Games":MAILTO:hello@themissingpiecegames.com
END:VEVENT
END:VCALENDAR