BEGIN:VCALENDAR
VERSION:2.0
PRODID:-//The Missing Piece - ECPv6.15.16//NONSGML v1.0//EN
CALSCALE:GREGORIAN
METHOD:PUBLISH
X-WR-CALNAME:The Missing Piece
X-ORIGINAL-URL:https://www.themissingpiecegames.com
X-WR-CALDESC:Events for The Missing Piece
REFRESH-INTERVAL;VALUE=DURATION:PT1H
X-Robots-Tag:noindex
X-PUBLISHED-TTL:PT1H
BEGIN:VTIMEZONE
TZID:America/Los_Angeles
BEGIN:DAYLIGHT
TZOFFSETFROM:-0800
TZOFFSETTO:-0700
TZNAME:PDT
DTSTART:20210314T100000
END:DAYLIGHT
BEGIN:STANDARD
TZOFFSETFROM:-0700
TZOFFSETTO:-0800
TZNAME:PST
DTSTART:20211107T090000
END:STANDARD
BEGIN:DAYLIGHT
TZOFFSETFROM:-0800
TZOFFSETTO:-0700
TZNAME:PDT
DTSTART:20220313T100000
END:DAYLIGHT
BEGIN:STANDARD
TZOFFSETFROM:-0700
TZOFFSETTO:-0800
TZNAME:PST
DTSTART:20221106T090000
END:STANDARD
BEGIN:DAYLIGHT
TZOFFSETFROM:-0800
TZOFFSETTO:-0700
TZNAME:PDT
DTSTART:20230312T100000
END:DAYLIGHT
BEGIN:STANDARD
TZOFFSETFROM:-0700
TZOFFSETTO:-0800
TZNAME:PST
DTSTART:20231105T090000
END:STANDARD
END:VTIMEZONE
BEGIN:VEVENT
DTSTART;TZID=America/Los_Angeles:20221102T173000
DTEND;TZID=America/Los_Angeles:20221102T235900
DTSTAMP:20260420T151303
CREATED:20220922T230624Z
LAST-MODIFIED:20220922T230624Z
UID:10003390-1667410200-1667433540@www.themissingpiecegames.com
SUMMARY:Private Event: Smashed to Pieces
DESCRIPTION:Every other Wednesday at the Missing Piece\, there is a private tournament for Super Smash Bros Ultimate.  There will be limited seating (2 tables) available for general use on these events.  The store will remain fully open for to-go cafe orders and game shopping as well.  If you you are interested in participating in the tournament you are welcome to sign up through the host’s website at: https://smash.gg/tournament/smashed-to-pieces-30/details \n  \nTournament details and instructions for sign up: \n\nTournament fee is $16\nRead the event details on smash.gg\nCreate an account on smash.gg using an active email\, it is free and you will not receive any spam or solicitation from the site\, only information and updates pertaining to events you have signed up for.\nClick on register and select the Super Smash Bros Ultimate event. Select pay at the venue.\nIf you sign up but are unable to attend\, please message Goose on Twitter\, Facebook or Discord with the email you used to sign up so you can be removed from the bracket.\nAny questions or concerns? Please reach out to Goose\, the tournament organizer via discord\, twitter\, or fb\, all listed below.\n\n  \nGoose’s contact info: \nFacebook: https://www.facebook.com/bngose\nTwitter: https://twitter.com/GooseGusty\nDiscord: https://discord.gg/fJ8qTCq \n 
URL:https://www.themissingpiecegames.com/event/private-event-smashed-to-pieces-28/
LOCATION:The Missing Piece\, 4707 California Ave SW B\, Seattle\, WA\, 98116\, United States
CATEGORIES:General
ATTACH;FMTTYPE=image/png:https://www.themissingpiecegames.com/wp-content/uploads/2021/09/Untitled.png
END:VEVENT
BEGIN:VEVENT
DTSTART;TZID=America/Los_Angeles:20221104T173000
DTEND;TZID=America/Los_Angeles:20221104T220000
DTSTAMP:20260420T151303
CREATED:20221006T191531Z
LAST-MODIFIED:20221006T191531Z
UID:10003665-1667583000-1667599200@www.themissingpiecegames.com
SUMMARY:Friday Night Magic: Phyrexian Horde Commander
DESCRIPTION:Become a hero of Dominaria and face off against the Phyrexian hordes! Welcome to Horde Magic\, a special format where up to 4 players team up against a specially constructed semi-automated deck. The team will share a life total that varies depending on the number of players. Like in Two-Headed Giant\, the members of a team will share their turn and go through each step of a turn together. They will also have a certain number of extra turns before the Horde deck takes a turn depending on the number of members in the team. Below is the starting life total and how many turns a team will have\, depending on team size: \nTeam of 1: 30 life\, and 5 extra turns. Team of 2: 40 life\, and 4 extra turns. Team of 3: 50 life and 3 extra turns. Team of 4: 60 life and 1 extra turn. \nDuring the Horde deck’s turn\, they will operate under special rules. 1\, the deck is treated as having an infinite amount of mana of each color for the purposes of casting spells. 2\, During the Horde deck’s turn\, instead of drawing a card at the Draw Step\, it flips over a card. If the card is a Token (which make up a large percentage of the deck)\, that token is put into play\, and the Horde will flip over another card. This continues until the card flipped over is a spell card. Once a spell is revealed\, it is cast automatically\, regardless of timing. 3\, If the Horde deck would have cards in hand (for example\, from casting a spell that causes it to draw cards)\, it must try to cast all spell cards put into its hand. Tokens drawn this way will be exiled\, as tokens cannot exist in the hand. 4\, All creatures controlled by the Horde have haste\, and must attack each turn if able. attacks are made against the whole team\, and therefore any member of the team can have any of their creatures block attackers. 5\, The Horde has no life total. Instead\, whenever it is dealt damage\, it mills cards equal to the damage taken. 6\, The Horde deck loses when it runs out of cards in the deck. \nNormally\, the team would elect one of their teammates to go through the motions of the Horde deck’s turn\, but to help the event run smoothly\, the host of the event will be operating the deck instead. \n5:30 – Registration begins for players that didn’t register on our website. This is also a great time to grab some food and drinks while you’re waiting for the event to begin. \n6:00pm – Rounds begin! Each team will have 50 minutes to try and defeat the Horde deck. During those 50 minutes\, teammates can score points to determine the prizes their team earns at the end of the event. \nAround 9:30pm – Prizes are awarded! Members of the 1st place team will receive booster packs. Members of the 2nd place team will receive promo packs. All participants will receive a promotional Magic card*\, and a Missing Pawn card to use during our Piecing It Together events on Sundays. \n* While supplies last.
URL:https://www.themissingpiecegames.com/event/friday-night-magic-phyrexian-horde-commander/
LOCATION:The Missing Piece\, 4707 California Ave SW B\, Seattle\, WA\, 98116\, United States
CATEGORIES:Collectable Card Games
ATTACH;FMTTYPE=image/jpeg:https://www.themissingpiecegames.com/wp-content/uploads/2022/10/Phyrexian_Preators.jpg
ORGANIZER;CN="The Missing Piece Games":MAILTO:hello@themissingpiecegames.com
END:VEVENT
BEGIN:VEVENT
DTSTART;TZID=America/Los_Angeles:20221111T173000
DTEND;TZID=America/Los_Angeles:20221111T220000
DTSTAMP:20260420T151303
CREATED:20221006T171112Z
LAST-MODIFIED:20221006T171112Z
UID:10003408-1668187800-1668204000@www.themissingpiecegames.com
SUMMARY:MTG Prerelease: The Brothers' War (Friday)
DESCRIPTION:Let’s jump back in time and witness one of the most devastating events in the history of Dominaria: The Brothers’ War. Who do you side with? The older brother\, Urza\, who’s rage against the Phyrexian machine will ruin the lives of so many? Or the younger brother\, Mishra\, who’s anger towards his brother caused him to turn to Phyrexia for power? \n5:30pm – Registration begins for players who didn’t sign up via our website. This is also a great time so meet the other players and order food and drinks. \n6:00pm – Pack opening and deck building begins! We’ll be starting this process exactly at 6\, so please arrive promptly if you can. \n6:50pm – Rounds begin. There will be three 50 minute rounds. \nAround 9:45pm – Prizes are awarded! 1st\, 2nd\, and 3rd place will get booster packs. 4th\, 5th\, 6th\, 7th\, and 8th will get promo packs. All participants will get a promotional Magic card as well as a Missing Pawn card to use during our Piecing It Together Events.
URL:https://www.themissingpiecegames.com/event/mtg-prerelease-the-brothers-war-friday/
LOCATION:The Missing Piece\, 4707 California Ave SW B\, Seattle\, WA\, 98116\, United States
CATEGORIES:Collectable Card Games
ATTACH;FMTTYPE=image/webp:https://www.themissingpiecegames.com/wp-content/uploads/2022/10/The_Brothers_War.webp
ORGANIZER;CN="The Missing Piece Games":MAILTO:hello@themissingpiecegames.com
END:VEVENT
BEGIN:VEVENT
DTSTART;TZID=America/Los_Angeles:20221112T173000
DTEND;TZID=America/Los_Angeles:20221112T220000
DTSTAMP:20260420T151303
CREATED:20221006T171652Z
LAST-MODIFIED:20221006T171652Z
UID:10003410-1668274200-1668290400@www.themissingpiecegames.com
SUMMARY:MTG Prerelease: The Brothers' War (Saturday)
DESCRIPTION:Let’s jump back in time and witness one of the most devastating events in the history of Dominaria: The Brothers’ War. Who do you side with? The older brother\, Urza\, who’s rage against the Phyrexian machine will ruin the lives of so many? Or the younger brother\, Mishra\, who’s anger towards his brother caused him to turn to Phyrexia for power? \n5:30pm – Registration begins for players who didn’t sign up via our website. This is also a great time so meet the other players and order food and drinks. \n6:00pm – Pack opening and deck building begins! We’ll be starting this process exactly at 6\, so please arrive promptly if you can. \n6:50pm – Rounds begin. There will be three 50 minute rounds. \nAround 9:45pm – Prizes are awarded! 1st\, 2nd\, and 3rd place will get booster packs. 4th\, 5th\, 6th\, 7th\, and 8th will get promo packs. All participants will get a promotional Magic card as well as a Missing Pawn card to use during our Piecing It Together Events.
URL:https://www.themissingpiecegames.com/event/mtg-prerelease-the-brothers-war-saturday/
LOCATION:The Missing Piece\, 4707 California Ave SW B\, Seattle\, WA\, 98116\, United States
CATEGORIES:Collectable Card Games
ATTACH;FMTTYPE=image/webp:https://www.themissingpiecegames.com/wp-content/uploads/2022/10/The_Brothers_War.webp
ORGANIZER;CN="The Missing Piece Games":MAILTO:hello@themissingpiecegames.com
END:VEVENT
BEGIN:VEVENT
DTSTART;TZID=America/Los_Angeles:20221116T173000
DTEND;TZID=America/Los_Angeles:20221116T235900
DTSTAMP:20260420T151303
CREATED:20220922T230707Z
LAST-MODIFIED:20220922T230722Z
UID:10003392-1668619800-1668643140@www.themissingpiecegames.com
SUMMARY:Private Event: Smashed to Pieces
DESCRIPTION:Every other Wednesday at the Missing Piece\, there is a private tournament for Super Smash Bros Ultimate.  There will be limited seating (2 tables) available for general use on these events.  The store will remain fully open for to-go cafe orders and game shopping as well.  If you you are interested in participating in the tournament you are welcome to sign up through the host’s website at: https://smash.gg/tournament/smashed-to-pieces-31/details \n  \nTournament details and instructions for sign up: \n\nTournament fee is $16\nRead the event details on smash.gg\nCreate an account on smash.gg using an active email\, it is free and you will not receive any spam or solicitation from the site\, only information and updates pertaining to events you have signed up for.\nClick on register and select the Super Smash Bros Ultimate event. Select pay at the venue.\nIf you sign up but are unable to attend\, please message Goose on Twitter\, Facebook or Discord with the email you used to sign up so you can be removed from the bracket.\nAny questions or concerns? Please reach out to Goose\, the tournament organizer via discord\, twitter\, or fb\, all listed below.\n\n  \nGoose’s contact info: \nFacebook: https://www.facebook.com/bngose\nTwitter: https://twitter.com/GooseGusty\nDiscord: https://discord.gg/fJ8qTCq \n 
URL:https://www.themissingpiecegames.com/event/private-event-smashed-to-pieces-29/
LOCATION:The Missing Piece\, 4707 California Ave SW B\, Seattle\, WA\, 98116\, United States
CATEGORIES:General
ATTACH;FMTTYPE=image/png:https://www.themissingpiecegames.com/wp-content/uploads/2021/09/Untitled.png
END:VEVENT
BEGIN:VEVENT
DTSTART;TZID=America/Los_Angeles:20221118T173000
DTEND;TZID=America/Los_Angeles:20221118T220000
DTSTAMP:20260420T151303
CREATED:20221006T173220Z
LAST-MODIFIED:20221006T173324Z
UID:10003664-1668792600-1668808800@www.themissingpiecegames.com
SUMMARY:Friday Night Magic: Brothers' War Draft
DESCRIPTION:Experience a pivotal moment in the history of Dominaria in a format that will have you wondering if you made the right choice as we host a draft event for Magic’s newest set: The Brothers’ War. \n5:30pm – Registration begins for players who didn’t sign up via our website. This is also a great time so meet the other players and order food and drinks. \n6:00pm – Drafting and deck building begins! We’ll be starting this process exactly at 6\, so please arrive promptly if you can. \n6:50pm – Rounds begin. There will be three 50 minute rounds. \nAround 9:45pm – Prizes are awarded! 1st\, 2nd\, and 3rd place will get booster packs. 4th\, 5th\, 6th\, 7th\, and 8th will get promo packs. All participants will get a promotional Magic card as well as a Missing Pawn card to use during our Piecing It Together Events.
URL:https://www.themissingpiecegames.com/event/friday-night-magic-brothers-war-draft/
LOCATION:The Missing Piece\, 4707 California Ave SW B\, Seattle\, WA\, 98116\, United States
CATEGORIES:Collectable Card Games
ATTACH;FMTTYPE=image/webp:https://www.themissingpiecegames.com/wp-content/uploads/2022/10/The_Brothers_War.webp
ORGANIZER;CN="The Missing Piece Games":MAILTO:hello@themissingpiecegames.com
END:VEVENT
BEGIN:VEVENT
DTSTART;TZID=America/Los_Angeles:20221125T173000
DTEND;TZID=America/Los_Angeles:20221125T220000
DTSTAMP:20260420T151303
CREATED:20221006T203747Z
LAST-MODIFIED:20221019T210928Z
UID:10003676-1669397400-1669413600@www.themissingpiecegames.com
SUMMARY:Friday Night Magic: Brothers' War Vanguard Commander
DESCRIPTION:It’s time to choose a side! In this event\, participants will form 2-player teams. Each round\, your team will follow either Urza\, or his brother\, Mishra. Your team will play with your leader’s Vanguard card (Links in their names). \nWhen playing with a Vanguard card\, your team will have its life total and/or hand size changed depending on who your Vanguard is. You’ll also have access to a unique ability. Otherwise\, like a Planeswalker Emblem\, there is no way to interact with a Vanguard card. \nSince we’re playing with a couple of optional rules already\, there won’t be any special deck building restrictions\, so feel free to bring your favorite decks with you! \n5:30 – Registration begins for players that didn’t register on our website. This is also a great time to grab some food and drinks while you’re waiting for the event to begin. \n6:00pm – Rounds begin! There will be three 50 minute rounds. \nAround 9:30pm – Prizes are awarded! 1st\, 2nd\, and 3rd place will get booster packs. 4th\, 5th\, 6th\, 7th\, and 8th will get Promo Packs\, and all players will receive a promotional Magic card* as well as a Missing Pawn card that can be used during our Piecing It Together events on Sundays! \n* While supplies last.
URL:https://www.themissingpiecegames.com/event/friday-night-magic-brothers-war-vanguard-commander/
LOCATION:The Missing Piece\, 4707 California Ave SW B\, Seattle\, WA\, 98116\, United States
CATEGORIES:Collectable Card Games
ATTACH;FMTTYPE=image/webp:https://www.themissingpiecegames.com/wp-content/uploads/2022/10/The_Brothers_War.webp
ORGANIZER;CN="The Missing Piece Games":MAILTO:hello@themissingpiecegames.com
END:VEVENT
BEGIN:VEVENT
DTSTART;TZID=America/Los_Angeles:20221130T173000
DTEND;TZID=America/Los_Angeles:20221130T235900
DTSTAMP:20260420T151303
CREATED:20220922T231245Z
LAST-MODIFIED:20220922T231245Z
UID:10003394-1669829400-1669852740@www.themissingpiecegames.com
SUMMARY:Private Event: Smashed to Pieces
DESCRIPTION:Every other Wednesday at the Missing Piece\, there is a private tournament for Super Smash Bros Ultimate.  There will be limited seating (2 tables) available for general use on these events.  The store will remain fully open for to-go cafe orders and game shopping as well.  If you you are interested in participating in the tournament you are welcome to sign up through the host’s website at: https://smash.gg/tournament/smashed-to-pieces-32/details \n  \nTournament details and instructions for sign up: \n\nTournament fee is $16\nRead the event details on smash.gg\nCreate an account on smash.gg using an active email\, it is free and you will not receive any spam or solicitation from the site\, only information and updates pertaining to events you have signed up for.\nClick on register and select the Super Smash Bros Ultimate event. Select pay at the venue.\nIf you sign up but are unable to attend\, please message Goose on Twitter\, Facebook or Discord with the email you used to sign up so you can be removed from the bracket.\nAny questions or concerns? Please reach out to Goose\, the tournament organizer via discord\, twitter\, or fb\, all listed below.\n\n  \nGoose’s contact info: \nFacebook: https://www.facebook.com/bngose\nTwitter: https://twitter.com/GooseGusty\nDiscord: https://discord.gg/fJ8qTCq \n 
URL:https://www.themissingpiecegames.com/event/private-event-smashed-to-pieces-30/
LOCATION:The Missing Piece\, 4707 California Ave SW B\, Seattle\, WA\, 98116\, United States
CATEGORIES:General
ATTACH;FMTTYPE=image/png:https://www.themissingpiecegames.com/wp-content/uploads/2021/09/Untitled.png
END:VEVENT
END:VCALENDAR