BEGIN:VCALENDAR
VERSION:2.0
PRODID:-//The Missing Piece - ECPv6.15.16//NONSGML v1.0//EN
CALSCALE:GREGORIAN
METHOD:PUBLISH
X-ORIGINAL-URL:https://www.themissingpiecegames.com
X-WR-CALDESC:Events for The Missing Piece
REFRESH-INTERVAL;VALUE=DURATION:PT1H
X-Robots-Tag:noindex
X-PUBLISHED-TTL:PT1H
BEGIN:VTIMEZONE
TZID:America/Los_Angeles
BEGIN:DAYLIGHT
TZOFFSETFROM:-0800
TZOFFSETTO:-0700
TZNAME:PDT
DTSTART:20210314T100000
END:DAYLIGHT
BEGIN:STANDARD
TZOFFSETFROM:-0700
TZOFFSETTO:-0800
TZNAME:PST
DTSTART:20211107T090000
END:STANDARD
BEGIN:DAYLIGHT
TZOFFSETFROM:-0800
TZOFFSETTO:-0700
TZNAME:PDT
DTSTART:20220313T100000
END:DAYLIGHT
BEGIN:STANDARD
TZOFFSETFROM:-0700
TZOFFSETTO:-0800
TZNAME:PST
DTSTART:20221106T090000
END:STANDARD
BEGIN:DAYLIGHT
TZOFFSETFROM:-0800
TZOFFSETTO:-0700
TZNAME:PDT
DTSTART:20230312T100000
END:DAYLIGHT
BEGIN:STANDARD
TZOFFSETFROM:-0700
TZOFFSETTO:-0800
TZNAME:PST
DTSTART:20231105T090000
END:STANDARD
END:VTIMEZONE
BEGIN:VEVENT
DTSTART;TZID=America/Los_Angeles:20221202T173000
DTEND;TZID=America/Los_Angeles:20221202T220000
DTSTAMP:20260420T131205
CREATED:20221006T224406Z
LAST-MODIFIED:20221006T224406Z
UID:10003677-1670002200-1670018400@www.themissingpiecegames.com
SUMMARY:Friday Night Magic: JumpStart White Elephant Draft
DESCRIPTION:What’s more fun than a White Elephant party? A White Elephant that ends with some great games of Magic: The Gathering of course! Jump Start the holiday season with us in this fun take on the draft format. How does it work? Well… \nBooster packs are set in the middle of the table. There are enough packs for each player to get two packs. Players take turns doing 1 of 3 actions: Take a pack from the middle\, steal a pack from another player\, or open a pack. Players cannot steal packs until all of the packs in the middle have been taken\, and once a pack has been opened\, it can only be stolen once\, and then never again. Once a player has 2 open packs that can’t be stolen\, they are no longer able to steal a pack. \n5:30pm – Registration begins for players who didn’t sign up via our website. This is also a great time so meet the other players and order food and drinks. \n6:00pm – Drafting and deck building begins! We’ll be starting this process exactly at 6\, so please arrive promptly if you can. \n6:50pm – Rounds begin. There will be three 50 minute rounds. \nAround 9:45pm – Prizes are awarded! 1st\, 2nd\, and 3rd place will get booster packs. 4th\, 5th\, 6th\, 7th\, and 8th will get promo packs. All participants will get a promotional Magic card as well as a Missing Pawn card to use during our Piecing It Together Events.
URL:https://www.themissingpiecegames.com/event/friday-night-magic-jumpstart-white-elephant-draft/
LOCATION:The Missing Piece\, 4707 California Ave SW B\, Seattle\, WA\, 98116\, United States
CATEGORIES:Collectable Card Games
ATTACH;FMTTYPE=image/jpeg:https://www.themissingpiecegames.com/wp-content/uploads/2022/10/JumpStart_2022-e1670095490602.jpg
ORGANIZER;CN="The Missing Piece Games":MAILTO:hello@themissingpiecegames.com
END:VEVENT
BEGIN:VEVENT
DTSTART;TZID=America/Los_Angeles:20221209T173000
DTEND;TZID=America/Los_Angeles:20221209T220000
DTSTAMP:20260420T131205
CREATED:20221203T183040Z
LAST-MODIFIED:20221203T183040Z
UID:10003696-1670607000-1670623200@www.themissingpiecegames.com
SUMMARY:Friday Night Magic Brother's War Draft
DESCRIPTION:‘Tis a season for love and good will toward all. What better way to express that than enjoying a booster draft event at your favorite game store for a set based around the most destructive case of sibling rivalry in Magic’s history? \n5:30pm – Registration begins for players who didn’t sign up via our website. This is also a great time to meet the other players and order food and drinks. \n6:00pm – Drafting and deck building begins! We’ll be starting this process exactly at 6\, so please arrive promptly if you can. \n6:50pm – Rounds begin. There will be three 50 minute rounds. \nAround 9:45pm – Prizes are awarded! 1st\, 2nd\, and 3rd place will get booster packs. 4th\, 5th\, 6th\, 7th\, and 8th will get promo packs. All participants will get a promotional Magic card as well as a Missing Pawn card to use during our Piecing It Together Events.
URL:https://www.themissingpiecegames.com/event/friday-night-magic-brothers-war-draft-2/
LOCATION:The Missing Piece\, 4707 California Ave SW B\, Seattle\, WA\, 98116\, United States
CATEGORIES:Collectable Card Games
ATTACH;FMTTYPE=image/webp:https://www.themissingpiecegames.com/wp-content/uploads/2022/10/The_Brothers_War.webp
ORGANIZER;CN="The Missing Piece Games":MAILTO:hello@themissingpiecegames.com
END:VEVENT
BEGIN:VEVENT
DTSTART;TZID=America/Los_Angeles:20221214T173000
DTEND;TZID=America/Los_Angeles:20221214T235900
DTSTAMP:20260420T131205
CREATED:20221130T033157Z
LAST-MODIFIED:20221130T033157Z
UID:10003679-1671039000-1671062340@www.themissingpiecegames.com
SUMMARY:Private Event: Smashed to Pieces
DESCRIPTION:Every other Wednesday at the Missing Piece\, there is a private tournament for Super Smash Bros Ultimate.  There will be limited seating (2 tables) available for general use on these events.  The store will remain fully open for to-go cafe orders and game shopping as well.  If you you are interested in participating in the tournament you are welcome to sign up through the host’s website at: https://smash.gg/tournament/smashed-to-pieces-30/details \n  \nTournament details and instructions for sign up: \n\nTournament fee is $16\nRead the event details on smash.gg\nCreate an account on smash.gg using an active email\, it is free and you will not receive any spam or solicitation from the site\, only information and updates pertaining to events you have signed up for.\nClick on register and select the Super Smash Bros Ultimate event. Select pay at the venue.\nIf you sign up but are unable to attend\, please message Goose on Twitter\, Facebook or Discord with the email you used to sign up so you can be removed from the bracket.\nAny questions or concerns? Please reach out to Goose\, the tournament organizer via discord\, twitter\, or fb\, all listed below.\n\n  \nGoose’s contact info: \nFacebook: https://www.facebook.com/bngose\nTwitter: https://twitter.com/GooseGusty\nDiscord: https://discord.gg/fJ8qTCq \n 
URL:https://www.themissingpiecegames.com/event/private-event-smashed-to-pieces-31/
LOCATION:The Missing Piece\, 4707 California Ave SW B\, Seattle\, WA\, 98116\, United States
CATEGORIES:General
ATTACH;FMTTYPE=image/png:https://www.themissingpiecegames.com/wp-content/uploads/2021/09/Untitled.png
END:VEVENT
BEGIN:VEVENT
DTSTART;TZID=America/Los_Angeles:20221223T173000
DTEND;TZID=America/Los_Angeles:20221223T220000
DTSTAMP:20260420T131205
CREATED:20221203T192619Z
LAST-MODIFIED:20221203T192619Z
UID:10003697-1671816600-1671832800@www.themissingpiecegames.com
SUMMARY:Friday Night Magic Jumpstart White Elephant Draft
DESCRIPTION:What’s more fun than a White Elephant party? A White Elephant that ends with some great games of Magic: The Gathering of course! So what is a White Elephant Draft? Well\, you see… \nEach player will pick two JumpStart Booster Packs from our available selection\, and those packs will be placed in the middle of the draft table. There will enough packs for each player to get four packs. Players take turns doing 1 of 3 actions: Take a pack from the middle\, steal a pack from another player\, or open a pack. Players cannot steal packs until all of the packs in the middle have been taken\, and once a pack has been opened\, it can only be stolen once\, and then never again. Once a player has 4 open packs that can’t be stolen\, they are no longer able to steal a pack\, and once all players have 4 open packs in front of them\, the draft is over! Players then take 2 of their 4 packs and shuffle them together\, creating their first deck\, and repeat the process with their other 2 packs to make their second deck. Any time between games\, a player may switch which deck they wish to play with. \n5:30pm – Registration begins for players who didn’t sign up via our website. This is also a great time so meet the other players and order food and drinks. \n6:00pm – Drafting and deck building begins! We’ll be starting this process exactly at 6\, so please arrive promptly if you can. \n6:50pm – Rounds begin. There will be three 50 minute rounds. \nAround 9:45pm – Prizes are awarded! 1st\, 2nd\, and 3rd place will get booster packs. 4th\, 5th\, 6th\, 7th\, and 8th will get promo packs. All participants will get a promotional Magic card as well as a Missing Pawn card to use during our Piecing It Together Events.
URL:https://www.themissingpiecegames.com/event/friday-night-magic-jumpstart-white-elephant-draft-2/
LOCATION:The Missing Piece\, 4707 California Ave SW B\, Seattle\, WA\, 98116\, United States
ATTACH;FMTTYPE=image/jpeg:https://www.themissingpiecegames.com/wp-content/uploads/2022/10/JumpStart_2022-e1670095490602.jpg
ORGANIZER;CN="The Missing Piece Games":MAILTO:hello@themissingpiecegames.com
END:VEVENT
BEGIN:VEVENT
DTSTART;TZID=America/Los_Angeles:20221228T173000
DTEND;TZID=America/Los_Angeles:20221228T235900
DTSTAMP:20260420T131205
CREATED:20221130T033254Z
LAST-MODIFIED:20221130T033254Z
UID:10003680-1672248600-1672271940@www.themissingpiecegames.com
SUMMARY:Private Event: Smashed to Pieces
DESCRIPTION:Every other Wednesday at the Missing Piece\, there is a private tournament for Super Smash Bros Ultimate.  There will be limited seating (2 tables) available for general use on these events.  The store will remain fully open for to-go cafe orders and game shopping as well.  If you you are interested in participating in the tournament you are welcome to sign up through the host’s website at: https://smash.gg/tournament/smashed-to-pieces-31/details \n  \nTournament details and instructions for sign up: \n\nTournament fee is $16\nRead the event details on smash.gg\nCreate an account on smash.gg using an active email\, it is free and you will not receive any spam or solicitation from the site\, only information and updates pertaining to events you have signed up for.\nClick on register and select the Super Smash Bros Ultimate event. Select pay at the venue.\nIf you sign up but are unable to attend\, please message Goose on Twitter\, Facebook or Discord with the email you used to sign up so you can be removed from the bracket.\nAny questions or concerns? Please reach out to Goose\, the tournament organizer via discord\, twitter\, or fb\, all listed below.\n\n  \nGoose’s contact info: \nFacebook: https://www.facebook.com/bngose\nTwitter: https://twitter.com/GooseGusty\nDiscord: https://discord.gg/fJ8qTCq \n 
URL:https://www.themissingpiecegames.com/event/private-event-smashed-to-pieces-32/
LOCATION:The Missing Piece\, 4707 California Ave SW B\, Seattle\, WA\, 98116\, United States
CATEGORIES:General
ATTACH;FMTTYPE=image/png:https://www.themissingpiecegames.com/wp-content/uploads/2021/09/Untitled.png
END:VEVENT
END:VCALENDAR