BEGIN:VCALENDAR
VERSION:2.0
PRODID:-//The Missing Piece - ECPv6.15.16//NONSGML v1.0//EN
CALSCALE:GREGORIAN
METHOD:PUBLISH
X-ORIGINAL-URL:https://www.themissingpiecegames.com
X-WR-CALDESC:Events for The Missing Piece
REFRESH-INTERVAL;VALUE=DURATION:PT1H
X-Robots-Tag:noindex
X-PUBLISHED-TTL:PT1H
BEGIN:VTIMEZONE
TZID:America/Los_Angeles
BEGIN:DAYLIGHT
TZOFFSETFROM:-0800
TZOFFSETTO:-0700
TZNAME:PDT
DTSTART:20220313T100000
END:DAYLIGHT
BEGIN:STANDARD
TZOFFSETFROM:-0700
TZOFFSETTO:-0800
TZNAME:PST
DTSTART:20221106T090000
END:STANDARD
BEGIN:DAYLIGHT
TZOFFSETFROM:-0800
TZOFFSETTO:-0700
TZNAME:PDT
DTSTART:20230312T100000
END:DAYLIGHT
BEGIN:STANDARD
TZOFFSETFROM:-0700
TZOFFSETTO:-0800
TZNAME:PST
DTSTART:20231105T090000
END:STANDARD
BEGIN:DAYLIGHT
TZOFFSETFROM:-0800
TZOFFSETTO:-0700
TZNAME:PDT
DTSTART:20240310T100000
END:DAYLIGHT
BEGIN:STANDARD
TZOFFSETFROM:-0700
TZOFFSETTO:-0800
TZNAME:PST
DTSTART:20241103T090000
END:STANDARD
END:VTIMEZONE
BEGIN:VEVENT
DTSTART;TZID=America/Los_Angeles:20230106T173000
DTEND;TZID=America/Los_Angeles:20230106T220000
DTSTAMP:20260420T090054
CREATED:20230102T190612Z
LAST-MODIFIED:20230102T190612Z
UID:10003698-1673026200-1673042400@www.themissingpiecegames.com
SUMMARY:Friday Night Magic: Commander
DESCRIPTION:Welcome Planeswalkers! Bring your favorite deck and see who comes out on top on the battlefield of Commander! \n5:30 – Registration begins for players that didn’t register on our website. This is also a great time to grab some food and drinks while you’re waiting for the event to begin. \n6:00pm – Rounds begin! There will be two 90 minute rounds\, during which\, players will compete for achievement points. Points will carry over from round to round and determine what prizes a player is awarded. \nAround 9:00pm – Prizes are awarded! 1st\, 2nd\, and 3rd place will get booster packs. 4th\, 5th\, 6th\, 7th\, and 8th will get Promo Packs\, and all players will receive a promotional Magic card* as well as a Missing Pawn card that can be used during our Piecing It Together events on Sundays! \n* While supplies last.
URL:https://www.themissingpiecegames.com/event/friday-night-magic-commander-16/
LOCATION:The Missing Piece\, 4707 California Ave SW B\, Seattle\, WA\, 98116\, United States
CATEGORIES:Collectable Card Games
ORGANIZER;CN="The Missing Piece Games":MAILTO:hello@themissingpiecegames.com
END:VEVENT
BEGIN:VEVENT
DTSTART;TZID=America/Los_Angeles:20230111T173000
DTEND;TZID=America/Los_Angeles:20230111T235900
DTSTAMP:20260420T090054
CREATED:20221130T033333Z
LAST-MODIFIED:20221130T033333Z
UID:10003681-1673458200-1673481540@www.themissingpiecegames.com
SUMMARY:Private Event: Smashed to Pieces
DESCRIPTION:Every other Wednesday at the Missing Piece\, there is a private tournament for Super Smash Bros Ultimate.  There will be limited seating (2 tables) available for general use on these events.  The store will remain fully open for to-go cafe orders and game shopping as well.  If you you are interested in participating in the tournament you are welcome to sign up through the host’s website at: https://smash.gg/tournament/smashed-to-pieces-32/details \n  \nTournament details and instructions for sign up: \n\nTournament fee is $16\nRead the event details on smash.gg\nCreate an account on smash.gg using an active email\, it is free and you will not receive any spam or solicitation from the site\, only information and updates pertaining to events you have signed up for.\nClick on register and select the Super Smash Bros Ultimate event. Select pay at the venue.\nIf you sign up but are unable to attend\, please message Goose on Twitter\, Facebook or Discord with the email you used to sign up so you can be removed from the bracket.\nAny questions or concerns? Please reach out to Goose\, the tournament organizer via discord\, twitter\, or fb\, all listed below.\n\n  \nGoose’s contact info: \nFacebook: https://www.facebook.com/bngose\nTwitter: https://twitter.com/GooseGusty\nDiscord: https://discord.gg/fJ8qTCq \n 
URL:https://www.themissingpiecegames.com/event/private-event-smashed-to-pieces-33/
LOCATION:The Missing Piece\, 4707 California Ave SW B\, Seattle\, WA\, 98116\, United States
CATEGORIES:General
ATTACH;FMTTYPE=image/png:https://www.themissingpiecegames.com/wp-content/uploads/2021/09/Untitled.png
END:VEVENT
BEGIN:VEVENT
DTSTART;TZID=America/Los_Angeles:20230113T173000
DTEND;TZID=America/Los_Angeles:20230113T220000
DTSTAMP:20260420T090054
CREATED:20230102T191851Z
LAST-MODIFIED:20230102T191851Z
UID:10003700-1673631000-1673647200@www.themissingpiecegames.com
SUMMARY:Friday Night Magic: Brothers' War Draft
DESCRIPTION:Experience a pivotal moment in the history of Dominaria in a format that will have you wondering if you made the right choice as we host a draft event for The Brothers’ War. \n5:30pm – Registration begins for players who didn’t sign up via our website. This is also a great time so meet the other players and order food and drinks. \n6:00pm – Drafting and deck building begins! We’ll be starting this process exactly at 6\, so please arrive promptly if you can. \n6:50pm – Rounds begin. There will be three 50 minute rounds. \nAround 9:45pm – Prizes are awarded! 1st\, 2nd\, and 3rd place will get booster packs. 4th\, 5th\, 6th\, 7th\, and 8th will get promo packs. All participants will get a promotional Magic card as well as a Missing Pawn card to use during our Piecing It Together Events.
URL:https://www.themissingpiecegames.com/event/friday-night-magic-brothers-war-draft-3/
LOCATION:The Missing Piece\, 4707 California Ave SW B\, Seattle\, WA\, 98116\, United States
CATEGORIES:Collectable Card Games
ATTACH;FMTTYPE=image/webp:https://www.themissingpiecegames.com/wp-content/uploads/2022/10/The_Brothers_War.webp
ORGANIZER;CN="The Missing Piece Games":MAILTO:hello@themissingpiecegames.com
END:VEVENT
BEGIN:VEVENT
DTSTART;TZID=America/Los_Angeles:20230120T173000
DTEND;TZID=America/Los_Angeles:20230120T220000
DTSTAMP:20260420T090054
CREATED:20230102T194917Z
LAST-MODIFIED:20230102T194917Z
UID:10003702-1674235800-1674252000@www.themissingpiecegames.com
SUMMARY:Friday Night Magic: Commander
DESCRIPTION:Welcome Planeswalkers! Bring your favorite deck and see who comes out on top on the battlefield of Commander! \n5:30 – Registration begins for players that didn’t register on our website. This is also a great time to grab some food and drinks while you’re waiting for the event to begin. \n6:00pm – Rounds begin! There will be two 90 minute rounds\, during which\, players will compete for achievement points. Points will carry over from round to round and determine what prizes a player is awarded. \nAround 9:00pm – Prizes are awarded! 1st\, 2nd\, and 3rd place will get booster packs. 4th\, 5th\, 6th\, 7th\, and 8th will get Promo Packs\, and all players will receive a promotional Magic card* as well as a Missing Pawn card that can be used during our Piecing It Together events on Sundays! \n* While supplies last.
URL:https://www.themissingpiecegames.com/event/friday-night-magic-commander-17/
LOCATION:The Missing Piece\, 4707 California Ave SW B\, Seattle\, WA\, 98116\, United States
CATEGORIES:Collectable Card Games
ORGANIZER;CN="The Missing Piece Games":MAILTO:hello@themissingpiecegames.com
END:VEVENT
BEGIN:VEVENT
DTSTART;TZID=America/Los_Angeles:20230125T173000
DTEND;TZID=America/Los_Angeles:20230125T235900
DTSTAMP:20260420T090054
CREATED:20221130T033417Z
LAST-MODIFIED:20221130T033417Z
UID:10003682-1674667800-1674691140@www.themissingpiecegames.com
SUMMARY:Private Event: Smashed to Pieces
DESCRIPTION:Every other Wednesday at the Missing Piece\, there is a private tournament for Super Smash Bros Ultimate.  There will be limited seating (2 tables) available for general use on these events.  The store will remain fully open for to-go cafe orders and game shopping as well.  If you you are interested in participating in the tournament you are welcome to sign up through the host’s website at: https://smash.gg/tournament/smashed-to-pieces-33/details \n  \nTournament details and instructions for sign up: \n\nTournament fee is $16\nRead the event details on smash.gg\nCreate an account on smash.gg using an active email\, it is free and you will not receive any spam or solicitation from the site\, only information and updates pertaining to events you have signed up for.\nClick on register and select the Super Smash Bros Ultimate event. Select pay at the venue.\nIf you sign up but are unable to attend\, please message Goose on Twitter\, Facebook or Discord with the email you used to sign up so you can be removed from the bracket.\nAny questions or concerns? Please reach out to Goose\, the tournament organizer via discord\, twitter\, or fb\, all listed below.\n\n  \nGoose’s contact info: \nFacebook: https://www.facebook.com/bngose\nTwitter: https://twitter.com/GooseGusty\nDiscord: https://discord.gg/fJ8qTCq \n 
URL:https://www.themissingpiecegames.com/event/private-event-smashed-to-pieces-34/
LOCATION:The Missing Piece\, 4707 California Ave SW B\, Seattle\, WA\, 98116\, United States
CATEGORIES:General
ATTACH;FMTTYPE=image/png:https://www.themissingpiecegames.com/wp-content/uploads/2021/09/Untitled.png
END:VEVENT
BEGIN:VEVENT
DTSTART;TZID=America/Los_Angeles:20230127T173000
DTEND;TZID=America/Los_Angeles:20230127T220000
DTSTAMP:20260420T090054
CREATED:20230106T223410Z
LAST-MODIFIED:20230106T225754Z
UID:10003708-1674840600-1674856800@www.themissingpiecegames.com
SUMMARY:Friday Night Magic - Mystery Booster Draft
DESCRIPTION:Happy New Year Magic players! We have a surprise for everyone to ring in the new year before the release of Phyrexia: All Will Be One! We’re holding a special Mystery Booster draft event! The prize support will be made up entirely of promotional material\, and of course everyone will get to keep the cards they draft! \n5:30pm – Registration begins for players that haven’t signed up through our website. \n6:00pm – Drafting and deckbuilding begins! We’ll be starting promptly at 6\, so be sure to get to the event with plenty of time to sign up and grab food and drinks. \n6:50pm – Rounds begin! There will be three 50 minute rounds. \nAround 9:45pm – Prizes will be awarded! For this event\, 1st\, 2nd\, and 3rd place will get Foil Promo Packs. 4th\, 5th\, 6th\, 7th\, and 8th will get normal Promo Packs. All players will also receive a promotional Magic card and a Missing Pawn card for our Piecing It Together events on Sundays! \n*While supplies lasts
URL:https://www.themissingpiecegames.com/event/friday-night-magic-mystery-booster-draft-2/
LOCATION:The Missing Piece\, 4707 California Ave SW B\, Seattle\, WA\, 98116\, United States
CATEGORIES:Collectable Card Games
ORGANIZER;CN="The Missing Piece Games":MAILTO:hello@themissingpiecegames.com
END:VEVENT
END:VCALENDAR