BEGIN:VCALENDAR
VERSION:2.0
PRODID:-//The Missing Piece - ECPv6.15.16//NONSGML v1.0//EN
CALSCALE:GREGORIAN
METHOD:PUBLISH
X-ORIGINAL-URL:https://www.themissingpiecegames.com
X-WR-CALDESC:Events for The Missing Piece
REFRESH-INTERVAL;VALUE=DURATION:PT1H
X-Robots-Tag:noindex
X-PUBLISHED-TTL:PT1H
BEGIN:VTIMEZONE
TZID:America/Los_Angeles
BEGIN:DAYLIGHT
TZOFFSETFROM:-0800
TZOFFSETTO:-0700
TZNAME:PDT
DTSTART:20220313T100000
END:DAYLIGHT
BEGIN:STANDARD
TZOFFSETFROM:-0700
TZOFFSETTO:-0800
TZNAME:PST
DTSTART:20221106T090000
END:STANDARD
BEGIN:DAYLIGHT
TZOFFSETFROM:-0800
TZOFFSETTO:-0700
TZNAME:PDT
DTSTART:20230312T100000
END:DAYLIGHT
BEGIN:STANDARD
TZOFFSETFROM:-0700
TZOFFSETTO:-0800
TZNAME:PST
DTSTART:20231105T090000
END:STANDARD
BEGIN:DAYLIGHT
TZOFFSETFROM:-0800
TZOFFSETTO:-0700
TZNAME:PDT
DTSTART:20240310T100000
END:DAYLIGHT
BEGIN:STANDARD
TZOFFSETFROM:-0700
TZOFFSETTO:-0800
TZNAME:PST
DTSTART:20241103T090000
END:STANDARD
END:VTIMEZONE
BEGIN:VEVENT
DTSTART;TZID=America/Los_Angeles:20230303T173000
DTEND;TZID=America/Los_Angeles:20230303T220000
DTSTAMP:20260420T061258
CREATED:20230219T173752Z
LAST-MODIFIED:20230219T173752Z
UID:10003721-1677864600-1677880800@www.themissingpiecegames.com
SUMMARY:Friday Night Magic: Rewind Draft - Phyrexia
DESCRIPTION:Much like how the protagonists of the Magic story went back in time to witness the Brothers’ War\, we will start at the present and work our way back through Magic’s recent history in this Rewind Draft series. We begin with a draft of the latest set: Phyrexia: All Will Be One. \n5:30pm – Registration begins for players who didn’t sign up via our website. This is also a great time so meet the other players and order food and drinks. \n6:00pm – Drafting and deck building begins! We’ll be starting this process exactly at 6\, so please arrive promptly if you can. \n6:50pm – Rounds begin. There will be three 50 minute rounds. \nAround 9:45pm – Prizes are awarded! 1st\, 2nd\, and 3rd place will get booster packs. 4th\, 5th\, 6th\, 7th\, and 8th will get promo packs. All participants will get a promotional Magic card as well as a Missing Pawn card to use during our Piecing It Together Events on Sundays.
URL:https://www.themissingpiecegames.com/event/friday-night-magic-rewind-draft-phyrexia/
LOCATION:The Missing Piece\, 4707 California Ave SW B\, Seattle\, WA\, 98116\, United States
CATEGORIES:Collectable Card Games
ATTACH;FMTTYPE=image/jpeg:https://www.themissingpiecegames.com/wp-content/uploads/2023/01/Phyrexia_ONE.jpg
ORGANIZER;CN="The Missing Piece Games":MAILTO:hello@themissingpiecegames.com
END:VEVENT
BEGIN:VEVENT
DTSTART;TZID=America/Los_Angeles:20230308T173000
DTEND;TZID=America/Los_Angeles:20230308T235900
DTSTAMP:20260420T061258
CREATED:20230202T223606Z
LAST-MODIFIED:20230202T223606Z
UID:10003714-1678296600-1678319940@www.themissingpiecegames.com
SUMMARY:Private Event: Smashed to Pieces
DESCRIPTION:Every other Wednesday at the Missing Piece\, there is a private tournament for Super Smash Bros Ultimate.  There will be limited seating (2 tables) available for general use on these events.  The store will remain fully open for to-go cafe orders and game shopping as well.  If you you are interested in participating in the tournament you are welcome to sign up through the host’s website at: https://smash.gg/tournament/smashed-to-pieces-36/details \n  \nTournament details and instructions for sign up: \n\nTournament fee is $16\nRead the event details on smash.gg\nCreate an account on smash.gg using an active email\, it is free and you will not receive any spam or solicitation from the site\, only information and updates pertaining to events you have signed up for.\nClick on register and select the Super Smash Bros Ultimate event. Select pay at the venue.\nIf you sign up but are unable to attend\, please message Goose on Twitter\, Facebook or Discord with the email you used to sign up so you can be removed from the bracket.\nAny questions or concerns? Please reach out to Goose\, the tournament organizer via discord\, twitter\, or fb\, all listed below.\n\n  \nGoose’s contact info: \nFacebook: https://www.facebook.com/bngose\nTwitter: https://twitter.com/GooseGusty\nDiscord: https://discord.gg/fJ8qTCq \n 
URL:https://www.themissingpiecegames.com/event/private-event-smashed-to-pieces-38/
LOCATION:The Missing Piece\, 4707 California Ave SW B\, Seattle\, WA\, 98116\, United States
CATEGORIES:General
ATTACH;FMTTYPE=image/png:https://www.themissingpiecegames.com/wp-content/uploads/2021/09/Untitled.png
END:VEVENT
BEGIN:VEVENT
DTSTART;TZID=America/Los_Angeles:20230310T173000
DTEND;TZID=America/Los_Angeles:20230310T220000
DTSTAMP:20260420T061258
CREATED:20230219T174709Z
LAST-MODIFIED:20230219T174709Z
UID:10003722-1678469400-1678485600@www.themissingpiecegames.com
SUMMARY:Friday Night Magic: Rewind Draft - Brothers' War
DESCRIPTION:Our second event in the Rewind Draft series brings us back to The Brothers’ War. Once again\, we can see the horrors of the most extreme form of sibling rivalry as Urza and Mishra use any means necessary to prove their superiority over each other. \n5:30pm – Registration begins for players who didn’t sign up via our website. This is also a great time so meet the other players and order food and drinks. \n6:00pm – Drafting and deck building begins! We’ll be starting this process exactly at 6\, so please arrive promptly if you can. \n6:50pm – Rounds begin. There will be three 50 minute rounds. \nAround 9:45pm – Prizes are awarded! 1st\, 2nd\, and 3rd place will get booster packs. 4th\, 5th\, 6th\, 7th\, and 8th will get promo packs. All participants will get a promotional Magic card as well as a Missing Pawn card to use during our Piecing It Together Events on Sundays.
URL:https://www.themissingpiecegames.com/event/friday-night-magic-rewind-draft-brothers-war/
LOCATION:The Missing Piece\, 4707 California Ave SW B\, Seattle\, WA\, 98116\, United States
CATEGORIES:Collectable Card Games
ATTACH;FMTTYPE=image/webp:https://www.themissingpiecegames.com/wp-content/uploads/2022/10/The_Brothers_War.webp
ORGANIZER;CN="The Missing Piece Games":MAILTO:hello@themissingpiecegames.com
END:VEVENT
BEGIN:VEVENT
DTSTART;TZID=America/Los_Angeles:20230317T173000
DTEND;TZID=America/Los_Angeles:20230317T220000
DTSTAMP:20260420T061258
CREATED:20230219T181028Z
LAST-MODIFIED:20230219T181028Z
UID:10003723-1679074200-1679090400@www.themissingpiecegames.com
SUMMARY:Friday Night Magic: Rewind Draft - Dominaria United
DESCRIPTION:We go back to the future as we continue our Rewind Draft series and come to the events that led to our heroes going back in time in Dominaria United. Here we relive such moments as the Weatherlight being turned into a powerful Phyrexian weapon\, and the reveal of Ajani being revealed as a double agent. \n5:30pm – Registration begins for players who didn’t sign up via our website. This is also a great time so meet the other players and order food and drinks. \n6:00pm – Drafting and deck building begins! We’ll be starting this process exactly at 6\, so please arrive promptly if you can. \n6:50pm – Rounds begin. There will be three 50 minute rounds. \nAround 9:45pm – Prizes are awarded! 1st\, 2nd\, and 3rd place will get booster packs. 4th\, 5th\, 6th\, 7th\, and 8th will get promo packs. All participants will get a promotional Magic card as well as a Missing Pawn card to use during our Piecing It Together Events on Sundays.
URL:https://www.themissingpiecegames.com/event/friday-night-magic-rewind-draft-dominaria-united/
LOCATION:The Missing Piece\, 4707 California Ave SW B\, Seattle\, WA\, 98116\, United States
CATEGORIES:Collectable Card Games
ORGANIZER;CN="The Missing Piece Games":MAILTO:hello@themissingpiecegames.com
END:VEVENT
BEGIN:VEVENT
DTSTART;TZID=America/Los_Angeles:20230318T130000
DTEND;TZID=America/Los_Angeles:20230318T160000
DTSTAMP:20260420T061258
CREATED:20230117T021045Z
LAST-MODIFIED:20230218T004842Z
UID:10003710-1679144400-1679155200@www.themissingpiecegames.com
SUMMARY:Prerelease Pokémon Scarlet Violet
DESCRIPTION:Welcome Pokémon Trainers to the Scarlet Violet Prerelease! This is your first chance to play with the newest cards in the Pokémon Trading Card Game. At this event you will receive a prerelease kit that contains a premade 40 card deck that is playable straight out of the box. Trainers will also receive several booster packs that you can use to add new and exciting cards to your prerelease deck! \n12:30pm – Register in store if need be\, grab some snacks and drinks. \n1:00pm – Open prerelease kits and packs\, and begin deck building! \n1:30pm – First round begins! Three rounds total\, matches are best of 3. \nPlease come ready to provide your Pokémon Trainer ID number to sign into the event. If you need to create a Pokémon  Trainer club account\, please follow this link
URL:https://www.themissingpiecegames.com/event/pokemon-free-play/
LOCATION:The Missing Piece\, 4707 California Ave SW B\, Seattle\, WA\, 98116\, United States
ORGANIZER;CN="The Missing Piece Games":MAILTO:hello@themissingpiecegames.com
END:VEVENT
BEGIN:VEVENT
DTSTART;TZID=America/Los_Angeles:20230322T173000
DTEND;TZID=America/Los_Angeles:20230322T235900
DTSTAMP:20260420T061258
CREATED:20230202T223715Z
LAST-MODIFIED:20230202T223715Z
UID:10003716-1679506200-1679529540@www.themissingpiecegames.com
SUMMARY:Private Event: Smashed to Pieces
DESCRIPTION:Every other Wednesday at the Missing Piece\, there is a private tournament for Super Smash Bros Ultimate.  There will be limited seating (2 tables) available for general use on these events.  The store will remain fully open for to-go cafe orders and game shopping as well.  If you you are interested in participating in the tournament you are welcome to sign up through the host’s website at: https://smash.gg/tournament/smashed-to-pieces-37/details \n  \nTournament details and instructions for sign up: \n\nTournament fee is $16\nRead the event details on smash.gg\nCreate an account on smash.gg using an active email\, it is free and you will not receive any spam or solicitation from the site\, only information and updates pertaining to events you have signed up for.\nClick on register and select the Super Smash Bros Ultimate event. Select pay at the venue.\nIf you sign up but are unable to attend\, please message Goose on Twitter\, Facebook or Discord with the email you used to sign up so you can be removed from the bracket.\nAny questions or concerns? Please reach out to Goose\, the tournament organizer via discord\, twitter\, or fb\, all listed below.\n\n  \nGoose’s contact info: \nFacebook: https://www.facebook.com/bngose\nTwitter: https://twitter.com/GooseGusty\nDiscord: https://discord.gg/fJ8qTCq \n 
URL:https://www.themissingpiecegames.com/event/private-event-smashed-to-pieces-39/
LOCATION:The Missing Piece\, 4707 California Ave SW B\, Seattle\, WA\, 98116\, United States
CATEGORIES:General
ATTACH;FMTTYPE=image/png:https://www.themissingpiecegames.com/wp-content/uploads/2021/09/Untitled.png
END:VEVENT
BEGIN:VEVENT
DTSTART;TZID=America/Los_Angeles:20230324T173000
DTEND;TZID=America/Los_Angeles:20230324T220000
DTSTAMP:20260420T061258
CREATED:20230219T181832Z
LAST-MODIFIED:20230219T181832Z
UID:10003724-1679679000-1679695200@www.themissingpiecegames.com
SUMMARY:Friday Night Magic: Rewind Draft - Capenna
DESCRIPTION:We leave Dominaria\, but the presence of Phyrexia can still be felt as we go back to New Capenna\, a plane that is now believed to be the original home of the Planeswalker\, Elspeth. \n5:30pm – Registration begins for players who didn’t sign up via our website. This is also a great time so meet the other players and order food and drinks. \n6:00pm – Drafting and deck building begins! We’ll be starting this process exactly at 6\, so please arrive promptly if you can. \n6:50pm – Rounds begin. There will be three 50 minute rounds. \nAround 9:45pm – Prizes are awarded! 1st\, 2nd\, and 3rd place will get booster packs. 4th\, 5th\, 6th\, 7th\, and 8th will get promo packs. All participants will get a promotional Magic card as well as a Missing Pawn card to use during our Piecing It Together Events on Sundays.
URL:https://www.themissingpiecegames.com/event/friday-night-magic-rewind-draft-capenna/
LOCATION:The Missing Piece\, 4707 California Ave SW B\, Seattle\, WA\, 98116\, United States
CATEGORIES:Collectable Card Games
ORGANIZER;CN="The Missing Piece Games":MAILTO:hello@themissingpiecegames.com
END:VEVENT
BEGIN:VEVENT
DTSTART;TZID=America/Los_Angeles:20230331T173000
DTEND;TZID=America/Los_Angeles:20230331T220000
DTSTAMP:20260420T061258
CREATED:20230219T183305Z
LAST-MODIFIED:20230219T183305Z
UID:10003725-1680283800-1680300000@www.themissingpiecegames.com
SUMMARY:Friday Night Magic: Rewind Draft - Kamigawa
DESCRIPTION:We conclude our Rewind series with a fan favorite set\, the futuristic return of a classic set from Magic’s more distant past\, Kamigawa: Neon Dynasty. Here we’ve only just begun to understand what exactly the Preators of Phyrexia have begun to plan\, and what must be done to try and stop them. Now we can return to the early phases of the story knowing how events will unfold for our would-be heroes. \n5:30pm – Registration begins for players who didn’t sign up via our website. This is also a great time so meet the other players and order food and drinks. \n6:00pm – Drafting and deck building begins! We’ll be starting this process exactly at 6\, so please arrive promptly if you can. \n6:50pm – Rounds begin. There will be three 50 minute rounds. \nAround 9:45pm – Prizes are awarded! 1st\, 2nd\, and 3rd place will get booster packs. 4th\, 5th\, 6th\, 7th\, and 8th will get promo packs. All participants will get a promotional Magic card as well as a Missing Pawn card to use during our Piecing It Together Events on Sundays.
URL:https://www.themissingpiecegames.com/event/friday-night-magic-rewind-draft-kamigawa/
LOCATION:The Missing Piece\, 4707 California Ave SW B\, Seattle\, WA\, 98116\, United States
CATEGORIES:Collectable Card Games
ORGANIZER;CN="The Missing Piece Games":MAILTO:hello@themissingpiecegames.com
END:VEVENT
END:VCALENDAR