BEGIN:VCALENDAR
VERSION:2.0
PRODID:-//The Missing Piece - ECPv6.15.16//NONSGML v1.0//EN
CALSCALE:GREGORIAN
METHOD:PUBLISH
X-ORIGINAL-URL:https://www.themissingpiecegames.com
X-WR-CALDESC:Events for The Missing Piece
REFRESH-INTERVAL;VALUE=DURATION:PT1H
X-Robots-Tag:noindex
X-PUBLISHED-TTL:PT1H
BEGIN:VTIMEZONE
TZID:America/Los_Angeles
BEGIN:DAYLIGHT
TZOFFSETFROM:-0800
TZOFFSETTO:-0700
TZNAME:PDT
DTSTART:20220313T100000
END:DAYLIGHT
BEGIN:STANDARD
TZOFFSETFROM:-0700
TZOFFSETTO:-0800
TZNAME:PST
DTSTART:20221106T090000
END:STANDARD
BEGIN:DAYLIGHT
TZOFFSETFROM:-0800
TZOFFSETTO:-0700
TZNAME:PDT
DTSTART:20230312T100000
END:DAYLIGHT
BEGIN:STANDARD
TZOFFSETFROM:-0700
TZOFFSETTO:-0800
TZNAME:PST
DTSTART:20231105T090000
END:STANDARD
BEGIN:DAYLIGHT
TZOFFSETFROM:-0800
TZOFFSETTO:-0700
TZNAME:PDT
DTSTART:20240310T100000
END:DAYLIGHT
BEGIN:STANDARD
TZOFFSETFROM:-0700
TZOFFSETTO:-0800
TZNAME:PST
DTSTART:20241103T090000
END:STANDARD
END:VTIMEZONE
BEGIN:VEVENT
DTSTART;TZID=America/Los_Angeles:20230405T173000
DTEND;TZID=America/Los_Angeles:20230405T235900
DTSTAMP:20260420T043939
CREATED:20230324T001749Z
LAST-MODIFIED:20230324T001749Z
UID:10003748-1680715800-1680739140@www.themissingpiecegames.com
SUMMARY:Private Event: Smashed to Pieces
DESCRIPTION:Every other Wednesday at the Missing Piece\, there is a private tournament for Super Smash Bros Ultimate.  There will be limited seating (2 tables) available for general use on these events.  The store will remain fully open for to-go cafe orders and game shopping as well.  If you you are interested in participating in the tournament you are welcome to sign up through the host’s website at: https://smash.gg/tournament/smashed-to-pieces-38/details \n  \nTournament details and instructions for sign up: \n\nTournament fee is $16\nRead the event details on smash.gg\nCreate an account on smash.gg using an active email\, it is free and you will not receive any spam or solicitation from the site\, only information and updates pertaining to events you have signed up for.\nClick on register and select the Super Smash Bros Ultimate event. Select pay at the venue.\nIf you sign up but are unable to attend\, please message Goose on Twitter\, Facebook or Discord with the email you used to sign up so you can be removed from the bracket.\nAny questions or concerns? Please reach out to Goose\, the tournament organizer via discord\, twitter\, or fb\, all listed below.\n\n  \nGoose’s contact info: \nFacebook: https://www.facebook.com/bngose\nTwitter: https://twitter.com/GooseGusty\nDiscord: https://discord.gg/fJ8qTCq \n 
URL:https://www.themissingpiecegames.com/event/private-event-smashed-to-pieces-36/
LOCATION:The Missing Piece\, 4707 California Ave SW B\, Seattle\, WA\, 98116\, United States
CATEGORIES:General
ATTACH;FMTTYPE=image/png:https://www.themissingpiecegames.com/wp-content/uploads/2021/09/Untitled.png
END:VEVENT
BEGIN:VEVENT
DTSTART;TZID=America/Los_Angeles:20230407T173000
DTEND;TZID=America/Los_Angeles:20230407T220000
DTSTAMP:20260420T043939
CREATED:20230324T194411Z
LAST-MODIFIED:20230324T194411Z
UID:10003434-1680888600-1680904800@www.themissingpiecegames.com
SUMMARY:Friday Night Magic: Unfinity Sealed
DESCRIPTION:What better way to begin April (and celebrate the start of our Unfinity League) than with an Unfinity sealed event? Come on down and see what hijinks ensues! \n5:30pm: Registration begins for players that didn’t sign up via our website. This is also a great time to pick up any food or drinks and get to know the other players in the event. \n6:00pm: Deckbuilding begins! The event begins promptly at 6pm\, so be sure to get to the event with time to register and order food and drinks. Players will have 50 minutes to build a 40 card deck from the 6 booster packs provided for the event. \n6:50pm: Rounds begin. There will be three 50 minute rounds. \nAround 9:45pm: Prizes are awarded. 1st\, 2nd\, and 3rd place will receive booster packs. 4th\, 5th\, 6th\, 7th\, and 8th will get promo packs. All participants will get a promotional Magic card.
URL:https://www.themissingpiecegames.com/event/friday-night-magic-unfinity-sealed/
LOCATION:The Missing Piece\, 4707 California Ave SW B\, Seattle\, WA\, 98116\, United States
CATEGORIES:Collectable Card Games
ATTACH;FMTTYPE=image/jpeg:https://www.themissingpiecegames.com/wp-content/uploads/2022/09/Unfinity..jpg
ORGANIZER;CN="The Missing Piece Games":MAILTO:hello@themissingpiecegames.com
END:VEVENT
BEGIN:VEVENT
DTSTART;TZID=America/Los_Angeles:20230414T173000
DTEND;TZID=America/Los_Angeles:20230414T220000
DTSTAMP:20260420T043939
CREATED:20230324T200736Z
LAST-MODIFIED:20230324T200833Z
UID:10003435-1681493400-1681509600@www.themissingpiecegames.com
SUMMARY:March of the Machine Prerelease (Friday)
DESCRIPTION:Take this chance to try out the latest cards for Magic the Gathering before everyone else! \n5:30pm: Registration begins for players that didn’t sign up via our website. This is also a great time to pick up any food or drinks and get to know the other players in the event. \n6:00pm: Deckbuilding begins! The event begins promptly at 6pm\, so be sure to get to the event with time to register and order food and drinks. Players will have 50 minutes to build a 40 card deck from the cards provided to them in their Prerelease Kit. \n6:50pm: Rounds begin. There will be three 50 minute rounds. \nAround 9:45pm: Prizes are awarded. 1st\, 2nd\, and 3rd place will receive booster packs. 4th\, 5th\, 6th\, 7th\, and 8th will get promo packs. All participants will get a promotional Magic card.
URL:https://www.themissingpiecegames.com/event/march-of-the-machine-prerelease-friday/
LOCATION:9456 35th Ave SW\, Seattle\, WA\, 98126\, United States
CATEGORIES:Collectable Card Games
ATTACH;FMTTYPE=image/jpeg:https://www.themissingpiecegames.com/wp-content/uploads/2023/03/MTGMOM.jpg
END:VEVENT
BEGIN:VEVENT
DTSTART;TZID=America/Los_Angeles:20230415T173000
DTEND;TZID=America/Los_Angeles:20230415T220000
DTSTAMP:20260420T043939
CREATED:20230324T201804Z
LAST-MODIFIED:20230324T201804Z
UID:10003436-1681579800-1681596000@www.themissingpiecegames.com
SUMMARY:March of the Machine Prerelease (Saturday)
DESCRIPTION:Take this chance to try out the latest cards for Magic the Gathering before everyone else! \n5:30pm: Registration begins for players that didn’t sign up via our website. This is also a great time to pick up any food or drinks and get to know the other players in the event. \n6:00pm: Deckbuilding begins! The event begins promptly at 6pm\, so be sure to get to the event with time to register and order food and drinks. Players will have 50 minutes to build a 40 card deck from the cards provided to them in their Prerelease Kit. \n6:50pm: Rounds begin. There will be three 50 minute rounds. \nAround 9:45pm: Prizes are awarded. 1st\, 2nd\, and 3rd place will receive booster packs. 4th\, 5th\, 6th\, 7th\, and 8th will get promo packs. All participants will get a promotional Magic card.
URL:https://www.themissingpiecegames.com/event/march-of-the-machine-prerelease-saturday/
LOCATION:The Missing Piece\, 4707 California Ave SW B\, Seattle\, WA\, 98116\, United States
CATEGORIES:Collectable Card Games
ATTACH;FMTTYPE=image/jpeg:https://www.themissingpiecegames.com/wp-content/uploads/2023/03/MTGMOM.jpg
ORGANIZER;CN="The Missing Piece Games":MAILTO:hello@themissingpiecegames.com
END:VEVENT
BEGIN:VEVENT
DTSTART;TZID=America/Los_Angeles:20230419T173000
DTEND;TZID=America/Los_Angeles:20230419T235900
DTSTAMP:20260420T043939
CREATED:20230324T001852Z
LAST-MODIFIED:20230324T001852Z
UID:10003428-1681925400-1681948740@www.themissingpiecegames.com
SUMMARY:Private Event: Smashed to Pieces
DESCRIPTION:Every other Wednesday at the Missing Piece\, there is a private tournament for Super Smash Bros Ultimate.  There will be limited seating (2 tables) available for general use on these events.  The store will remain fully open for to-go cafe orders and game shopping as well.  If you you are interested in participating in the tournament you are welcome to sign up through the host’s website at: https://smash.gg/tournament/smashed-to-pieces-39/details \n  \nTournament details and instructions for sign up: \n\nTournament fee is $16\nRead the event details on smash.gg\nCreate an account on smash.gg using an active email\, it is free and you will not receive any spam or solicitation from the site\, only information and updates pertaining to events you have signed up for.\nClick on register and select the Super Smash Bros Ultimate event. Select pay at the venue.\nIf you sign up but are unable to attend\, please message Goose on Twitter\, Facebook or Discord with the email you used to sign up so you can be removed from the bracket.\nAny questions or concerns? Please reach out to Goose\, the tournament organizer via discord\, twitter\, or fb\, all listed below.\n\n  \nGoose’s contact info: \nFacebook: https://www.facebook.com/bngose\nTwitter: https://twitter.com/GooseGusty\nDiscord: https://discord.gg/fJ8qTCq \n 
URL:https://www.themissingpiecegames.com/event/private-event-smashed-to-pieces-40/
LOCATION:The Missing Piece\, 4707 California Ave SW B\, Seattle\, WA\, 98116\, United States
CATEGORIES:General
ATTACH;FMTTYPE=image/png:https://www.themissingpiecegames.com/wp-content/uploads/2021/09/Untitled.png
END:VEVENT
BEGIN:VEVENT
DTSTART;TZID=America/Los_Angeles:20230421T173000
DTEND;TZID=America/Los_Angeles:20230421T220000
DTSTAMP:20260420T043939
CREATED:20230324T203337Z
LAST-MODIFIED:20230324T203337Z
UID:10003437-1682098200-1682114400@www.themissingpiecegames.com
SUMMARY:Friday Night Magic: March of the Machine Draft
DESCRIPTION:Join the Missing Piece in welcoming in the March of the Machine with a fun night of drafting! \n5:30pm – Registration begins for players who didn’t sign up via our website. This is also a great time so meet the other players and order food and drinks. \n6:00pm – Drafting and deck building begins! We’ll be starting this process exactly at 6\, so please arrive promptly if you can. \n6:50pm – Rounds begin. There will be three 50 minute rounds. \nAround 9:45pm – Prizes are awarded! 1st\, 2nd\, and 3rd place will get booster packs. 4th\, 5th\, 6th\, 7th\, and 8th will get promo packs. All participants will get a promotional Magic card as well as a Missing Pawn card to use during our Piecing It Together Events.
URL:https://www.themissingpiecegames.com/event/friday-night-magic-march-of-the-machine-draft/
LOCATION:The Missing Piece\, 4707 California Ave SW B\, Seattle\, WA\, 98116\, United States
CATEGORIES:Collectable Card Games
ATTACH;FMTTYPE=image/jpeg:https://www.themissingpiecegames.com/wp-content/uploads/2023/03/MTGMOM.jpg
ORGANIZER;CN="The Missing Piece Games":MAILTO:hello@themissingpiecegames.com
END:VEVENT
BEGIN:VEVENT
DTSTART;TZID=America/Los_Angeles:20230428T173000
DTEND;TZID=America/Los_Angeles:20230428T220000
DTSTAMP:20260420T043939
CREATED:20230428T134720Z
LAST-MODIFIED:20230428T135400Z
UID:10003438-1682703000-1682719200@www.themissingpiecegames.com
SUMMARY:Friday Night Magic: Planechase Commander
DESCRIPTION:As the dust settles from the latest multiverse-wide invasion of the Phyrexians\, let’s see how all of the planes have fared in a special Planechase version of the Commander format. How does Planechase work? At the center of the table is the Planes deck. You’ll start the game by flipping over the top card and revealing the first plane from Magic’s history that you’re visiting. While on that plane\, you have some special rules. Some will always apply\, white others require that you roll the Planar Die. Depending on the result of your die roll\, you might activate the special ability of the Plane Card\, or you might find your group has planeswalked away from the current plane to explore a new one! \n5:30pm – Last minute sign ups begin for anyone who hasn’t signed up through the website. This is also a great time to get to know the other players\, and grab a bite to eat from our cafe menu! \n6:00pm – Round 1 begins! For Commander events\, there are two 90-minute rounds. Players will accrue points depending on how they did in each of their games \nAround 9:45pm – Prizes will be awarded! 1st\, 2nd\, and 3rd place will receive Booster Packs\, 4th\, 5th\, 6th\, 7th\, and 8th will get Promo Packs\, and all participants can expect to get a Promotional Magic card!
URL:https://www.themissingpiecegames.com/event/friday-night-magic-planechase-commander/
LOCATION:The Missing Piece\, 4707 California Ave SW B\, Seattle\, WA\, 98116\, United States
CATEGORIES:Collectable Card Games
ATTACH;FMTTYPE=image/jpeg:https://www.themissingpiecegames.com/wp-content/uploads/2023/04/Planechase-Back-rotated-e1695744841262.jpg
ORGANIZER;CN="The Missing Piece Games":MAILTO:hello@themissingpiecegames.com
END:VEVENT
END:VCALENDAR