BEGIN:VCALENDAR
VERSION:2.0
PRODID:-//The Missing Piece - ECPv6.15.16//NONSGML v1.0//EN
CALSCALE:GREGORIAN
METHOD:PUBLISH
X-WR-CALNAME:The Missing Piece
X-ORIGINAL-URL:https://www.themissingpiecegames.com
X-WR-CALDESC:Events for The Missing Piece
REFRESH-INTERVAL;VALUE=DURATION:PT1H
X-Robots-Tag:noindex
X-PUBLISHED-TTL:PT1H
BEGIN:VTIMEZONE
TZID:America/Los_Angeles
BEGIN:DAYLIGHT
TZOFFSETFROM:-0800
TZOFFSETTO:-0700
TZNAME:PDT
DTSTART:20240310T100000
END:DAYLIGHT
BEGIN:STANDARD
TZOFFSETFROM:-0700
TZOFFSETTO:-0800
TZNAME:PST
DTSTART:20241103T090000
END:STANDARD
BEGIN:DAYLIGHT
TZOFFSETFROM:-0800
TZOFFSETTO:-0700
TZNAME:PDT
DTSTART:20250309T100000
END:DAYLIGHT
BEGIN:STANDARD
TZOFFSETFROM:-0700
TZOFFSETTO:-0800
TZNAME:PST
DTSTART:20251102T090000
END:STANDARD
BEGIN:DAYLIGHT
TZOFFSETFROM:-0800
TZOFFSETTO:-0700
TZNAME:PDT
DTSTART:20260308T100000
END:DAYLIGHT
BEGIN:STANDARD
TZOFFSETFROM:-0700
TZOFFSETTO:-0800
TZNAME:PST
DTSTART:20261101T090000
END:STANDARD
END:VTIMEZONE
BEGIN:VEVENT
DTSTART;TZID=America/Los_Angeles:20250301T150000
DTEND;TZID=America/Los_Angeles:20250301T193000
DTSTAMP:20260421T022237
CREATED:20250201T045513Z
LAST-MODIFIED:20250215T000114Z
UID:10003980-1740841200-1740857400@www.themissingpiecegames.com
SUMMARY:Digimon Card Game: Special Booster 2.5 Celebration Event
DESCRIPTION:Attention Tamers! We’re getting closer and closer to unified global releases in the Digimon Card Game! To celebrate\, come to The Missing Piece to play in a special pre-release event for Special Booster 2.5! \n3:00pm – In person sign ups begin! This is also a great time to buy food\, drinks\, and any supplies you might need for the event\, like sleeves. \n3:30pm – Players begin deck building! Each player will get 6 booster packs\, and will have 50 minutes to build a 40 card deck from the cards they open from those packs. Remember\, color requirements for standard Digivolution costs are ignored\, and if you have no eggs in your raising area\, you can place a Lv.3 Digimon into your raising area as if there was an egg there. \n4:20pm – Pairings are announced for round 1. There will be 3 rounds\, during which\, players will compete in a best-2-out-of-3 match. Each round is 50 minutes long. \nAround 7:30pm – Prizes will be awarded! Players will all get promotional items for participating\, and can get additional prizes based on their performance during the event.
URL:https://www.themissingpiecegames.com/event/digimon-card-game-special-booster-2-5-celebration-event/
LOCATION:The Missing Piece\, 4707 California Ave SW B\, Seattle\, WA\, 98116\, United States
CATEGORIES:Collectable Card Games
ATTACH;FMTTYPE=image/jpeg:https://www.themissingpiecegames.com/wp-content/uploads/2023/07/DIGIMONTCG-e1689878794106.jpg
ORGANIZER;CN="The Missing Piece Games":MAILTO:hello@themissingpiecegames.com
END:VEVENT
BEGIN:VEVENT
DTSTART;TZID=America/Los_Angeles:20250303T160000
DTEND;TZID=America/Los_Angeles:20250303T183000
DTSTAMP:20260421T022237
CREATED:20241216T061114Z
LAST-MODIFIED:20250520T171956Z
UID:10003931-1741017600-1741026600@www.themissingpiecegames.com
SUMMARY:After School D&D - Mondays - 2025
DESCRIPTION:Join Game Master Danielle and other middle school adventurers to explore fantasy worlds and embark on epic adventures in this PG campaign! You decide how to act and what happens next as we traverse dangerous dungeons\, solve puzzles\, and fight monsters in this role playing game. This campaign will be directed by the players\, so bring a character up to 3rd level or make your own with us! If you have a 5th edition players guide and dice\, please bring them; both can be purchased at the shop beforehand\, but it’s not necessary. Character sheets\, paper\, pencils\, dice\, and books will be available for all players to share. \nWe expect sessions to finish on time and ask that children have a plan for getting home. Early pickups can be arranged ahead of time as necessary\, but they disrupt the immersion and should be avoided if possible. Danielle is an experienced social worker and teen mentor comfortable with managing a variety of feelings/abilities\, however\, if there is something we should be sensitive about\, please note it in the survey\, along with your contact information and plan for getting home. \nNightly Schedule: \n4-5: Games\, character creation\, world building \n(Students can catch up from the week\, play other games from the library\, work on their character build\, or help world build etc.) \n5-5:30: Dinner (food will be available for sale at the cafe counter) \n5:30-6:30: Dungeons and Dragons campaign! \n  \nCampaigns Dates: \nNew Year (5+2): Jan 6\, 13\, 27\, Feb 3\, 10 \nDrop-In tickets for 20 Jan & 17 Feb (no school days) \nSpring (7): Feb 24\, Mar 3\, 10\, 17\, 24\, 31\, Apr 7 \nDrop-In tickets for April 14 (spring break) \nSchool Year Finale (6+1): April 21\, 28\, May 5\, 12\, 19\, June 2 \nDrop-in tickets for May 26 (Memorial Day) \n 
URL:https://www.themissingpiecegames.com/event/after-school-dd-mondays-2025/2025-03-03/
LOCATION:The Missing Piece\, 4707 California Ave SW B\, Seattle\, WA\, 98116\, United States
CATEGORIES:After School,Roleplaying
ATTACH;FMTTYPE=image/png:https://www.themissingpiecegames.com/wp-content/uploads/2024/12/generic-dnd-flyer.png
ORGANIZER;CN="DM Danielle":MAILTO:outreach@themissingpiecegames.com
END:VEVENT
BEGIN:VEVENT
DTSTART;TZID=America/Los_Angeles:20250304T160000
DTEND;TZID=America/Los_Angeles:20250304T183000
DTSTAMP:20260421T022237
CREATED:20241217T045317Z
LAST-MODIFIED:20250211T184809Z
UID:10003953-1741104000-1741113000@www.themissingpiecegames.com
SUMMARY:After School D&D - Tuesdays - 2025
DESCRIPTION:Join Game Master Danielle and other middle school adventurers to explore fantasy worlds and embark on epic adventures in this PG campaign! You decide how to act and what happens next as we traverse dangerous dungeons\, solve puzzles\, and fight monsters in this role playing game. This campaign will be directed by the players\, so bring a character up to 3rd level or make your own with us! If you have a 5th edition players guide and dice\, please bring them; both can be purchased at the shop beforehand\, but it’s not necessary. Character sheets\, paper\, pencils\, dice\, and books will be available for all players to share. \nWe expect sessions to finish on time and ask that children have a plan for getting home. Early pickups can be arranged ahead of time as necessary\, but they disrupt the immersion and should be avoided if possible. Danielle is an experienced social worker and teen mentor comfortable with managing a variety of feelings/abilities\, however\, if there is something we should be sensitive about\, please note it in the survey\, along with your contact information and plan for getting home. \nNightly Schedule: \n4-5: Games\, character creation\, world building \n(Students can catch up from the week\, play other games from the library\, work on their character build\, or help world build etc.) \n5-5:30: Dinner (food will be available for sale at the cafe counter) \n5:30-6:30: Dungeons and Dragons campaign! \n  \nCampaign Dates: \n6-Week New Year Campaign: Jan 7\, 14\, 21\, 28\, Feb 4\, 11 \nDrop-in Feb 18 (spring break) \n7-week Spring Campaign: Feb 25\, March 4\, 11\, 18\, 25\, April 1\, 8 \nDrop-in April 15 (spring break) \n7-week School Year Finale: April 22\, 29\, May 6\, 13\, 20\, 27\, June 3
URL:https://www.themissingpiecegames.com/event/after-school-dd-tuesdays-2025/2025-03-04/
LOCATION:The Missing Piece\, 4707 California Ave SW B\, Seattle\, WA\, 98116\, United States
CATEGORIES:After School,Roleplaying
ATTACH;FMTTYPE=image/png:https://www.themissingpiecegames.com/wp-content/uploads/2024/12/generic-dnd-flyer.png
ORGANIZER;CN="DM Danielle":MAILTO:outreach@themissingpiecegames.com
END:VEVENT
BEGIN:VEVENT
DTSTART;TZID=America/Los_Angeles:20250310T160000
DTEND;TZID=America/Los_Angeles:20250310T183000
DTSTAMP:20260421T022237
CREATED:20241216T061114Z
LAST-MODIFIED:20250520T171956Z
UID:10003932-1741622400-1741631400@www.themissingpiecegames.com
SUMMARY:After School D&D - Mondays - 2025
DESCRIPTION:Join Game Master Danielle and other middle school adventurers to explore fantasy worlds and embark on epic adventures in this PG campaign! You decide how to act and what happens next as we traverse dangerous dungeons\, solve puzzles\, and fight monsters in this role playing game. This campaign will be directed by the players\, so bring a character up to 3rd level or make your own with us! If you have a 5th edition players guide and dice\, please bring them; both can be purchased at the shop beforehand\, but it’s not necessary. Character sheets\, paper\, pencils\, dice\, and books will be available for all players to share. \nWe expect sessions to finish on time and ask that children have a plan for getting home. Early pickups can be arranged ahead of time as necessary\, but they disrupt the immersion and should be avoided if possible. Danielle is an experienced social worker and teen mentor comfortable with managing a variety of feelings/abilities\, however\, if there is something we should be sensitive about\, please note it in the survey\, along with your contact information and plan for getting home. \nNightly Schedule: \n4-5: Games\, character creation\, world building \n(Students can catch up from the week\, play other games from the library\, work on their character build\, or help world build etc.) \n5-5:30: Dinner (food will be available for sale at the cafe counter) \n5:30-6:30: Dungeons and Dragons campaign! \n  \nCampaigns Dates: \nNew Year (5+2): Jan 6\, 13\, 27\, Feb 3\, 10 \nDrop-In tickets for 20 Jan & 17 Feb (no school days) \nSpring (7): Feb 24\, Mar 3\, 10\, 17\, 24\, 31\, Apr 7 \nDrop-In tickets for April 14 (spring break) \nSchool Year Finale (6+1): April 21\, 28\, May 5\, 12\, 19\, June 2 \nDrop-in tickets for May 26 (Memorial Day) \n 
URL:https://www.themissingpiecegames.com/event/after-school-dd-mondays-2025/2025-03-10/
LOCATION:The Missing Piece\, 4707 California Ave SW B\, Seattle\, WA\, 98116\, United States
CATEGORIES:After School,Roleplaying
ATTACH;FMTTYPE=image/png:https://www.themissingpiecegames.com/wp-content/uploads/2024/12/generic-dnd-flyer.png
ORGANIZER;CN="DM Danielle":MAILTO:outreach@themissingpiecegames.com
END:VEVENT
BEGIN:VEVENT
DTSTART;TZID=America/Los_Angeles:20250311T160000
DTEND;TZID=America/Los_Angeles:20250311T183000
DTSTAMP:20260421T022237
CREATED:20241217T045317Z
LAST-MODIFIED:20250211T184809Z
UID:10003954-1741708800-1741717800@www.themissingpiecegames.com
SUMMARY:After School D&D - Tuesdays - 2025
DESCRIPTION:Join Game Master Danielle and other middle school adventurers to explore fantasy worlds and embark on epic adventures in this PG campaign! You decide how to act and what happens next as we traverse dangerous dungeons\, solve puzzles\, and fight monsters in this role playing game. This campaign will be directed by the players\, so bring a character up to 3rd level or make your own with us! If you have a 5th edition players guide and dice\, please bring them; both can be purchased at the shop beforehand\, but it’s not necessary. Character sheets\, paper\, pencils\, dice\, and books will be available for all players to share. \nWe expect sessions to finish on time and ask that children have a plan for getting home. Early pickups can be arranged ahead of time as necessary\, but they disrupt the immersion and should be avoided if possible. Danielle is an experienced social worker and teen mentor comfortable with managing a variety of feelings/abilities\, however\, if there is something we should be sensitive about\, please note it in the survey\, along with your contact information and plan for getting home. \nNightly Schedule: \n4-5: Games\, character creation\, world building \n(Students can catch up from the week\, play other games from the library\, work on their character build\, or help world build etc.) \n5-5:30: Dinner (food will be available for sale at the cafe counter) \n5:30-6:30: Dungeons and Dragons campaign! \n  \nCampaign Dates: \n6-Week New Year Campaign: Jan 7\, 14\, 21\, 28\, Feb 4\, 11 \nDrop-in Feb 18 (spring break) \n7-week Spring Campaign: Feb 25\, March 4\, 11\, 18\, 25\, April 1\, 8 \nDrop-in April 15 (spring break) \n7-week School Year Finale: April 22\, 29\, May 6\, 13\, 20\, 27\, June 3
URL:https://www.themissingpiecegames.com/event/after-school-dd-tuesdays-2025/2025-03-11/
LOCATION:The Missing Piece\, 4707 California Ave SW B\, Seattle\, WA\, 98116\, United States
CATEGORIES:After School,Roleplaying
ATTACH;FMTTYPE=image/png:https://www.themissingpiecegames.com/wp-content/uploads/2024/12/generic-dnd-flyer.png
ORGANIZER;CN="DM Danielle":MAILTO:outreach@themissingpiecegames.com
END:VEVENT
BEGIN:VEVENT
DTSTART;TZID=America/Los_Angeles:20250315T170000
DTEND;TZID=America/Los_Angeles:20250315T200000
DTSTAMP:20260421T022237
CREATED:20241223T173713Z
LAST-MODIFIED:20250315T171922Z
UID:10003968-1742058000-1742068800@www.themissingpiecegames.com
SUMMARY:One Piece OP-10: Royal Blood Prerelease Event
DESCRIPTION:Gather your crew and be some of the first to play with the cards found in the latest One Piece Trading Card Game set: Royal Blood in this prerelease event! \n5:00pm – In person sign ups begin. This is also a great time to meet the other players in the event\, order food and drinks\, and get any supplies you may need for the event\, such as sleeves. \n5:30pm – Deck building begins! Players will have 50 minutes to build a 40 card deck. Players are expected to provide their own Don!! Cards\, and are allowed to use any Leader Card from previous sets. Remember\, in limited play\, you may use any color cards in your deck\, regardless of your Leader’s color. \n6:20pm – Round 1 begins! There will be three 30-minute rounds where players play a best-of-one match. \nAround 8:00pm – Prizes will be awarded! All participants will receive promotional items for participating\, with additional prizes based on their overall performance in the event. \nIn the case that a player is unable to make it to the event\, and needs a refund\, be sure to notify us at least 24 hours before the event.
URL:https://www.themissingpiecegames.com/event/one-piece-op-10-royal-blood-prerelease-event/
LOCATION:The Missing Piece\, 4707 California Ave SW B\, Seattle\, WA\, 98116\, United States
CATEGORIES:Collectable Card Games,Tournaments
ATTACH;FMTTYPE=image/jpeg:https://www.themissingpiecegames.com/wp-content/uploads/2023/10/one-piece-card-game.jpg
ORGANIZER;CN="The Missing Piece Games":MAILTO:hello@themissingpiecegames.com
END:VEVENT
BEGIN:VEVENT
DTSTART;TZID=America/Los_Angeles:20250317T160000
DTEND;TZID=America/Los_Angeles:20250317T183000
DTSTAMP:20260421T022237
CREATED:20241216T061114Z
LAST-MODIFIED:20250520T171956Z
UID:10003933-1742227200-1742236200@www.themissingpiecegames.com
SUMMARY:After School D&D - Mondays - 2025
DESCRIPTION:Join Game Master Danielle and other middle school adventurers to explore fantasy worlds and embark on epic adventures in this PG campaign! You decide how to act and what happens next as we traverse dangerous dungeons\, solve puzzles\, and fight monsters in this role playing game. This campaign will be directed by the players\, so bring a character up to 3rd level or make your own with us! If you have a 5th edition players guide and dice\, please bring them; both can be purchased at the shop beforehand\, but it’s not necessary. Character sheets\, paper\, pencils\, dice\, and books will be available for all players to share. \nWe expect sessions to finish on time and ask that children have a plan for getting home. Early pickups can be arranged ahead of time as necessary\, but they disrupt the immersion and should be avoided if possible. Danielle is an experienced social worker and teen mentor comfortable with managing a variety of feelings/abilities\, however\, if there is something we should be sensitive about\, please note it in the survey\, along with your contact information and plan for getting home. \nNightly Schedule: \n4-5: Games\, character creation\, world building \n(Students can catch up from the week\, play other games from the library\, work on their character build\, or help world build etc.) \n5-5:30: Dinner (food will be available for sale at the cafe counter) \n5:30-6:30: Dungeons and Dragons campaign! \n  \nCampaigns Dates: \nNew Year (5+2): Jan 6\, 13\, 27\, Feb 3\, 10 \nDrop-In tickets for 20 Jan & 17 Feb (no school days) \nSpring (7): Feb 24\, Mar 3\, 10\, 17\, 24\, 31\, Apr 7 \nDrop-In tickets for April 14 (spring break) \nSchool Year Finale (6+1): April 21\, 28\, May 5\, 12\, 19\, June 2 \nDrop-in tickets for May 26 (Memorial Day) \n 
URL:https://www.themissingpiecegames.com/event/after-school-dd-mondays-2025/2025-03-17/
LOCATION:The Missing Piece\, 4707 California Ave SW B\, Seattle\, WA\, 98116\, United States
CATEGORIES:After School,Roleplaying
ATTACH;FMTTYPE=image/png:https://www.themissingpiecegames.com/wp-content/uploads/2024/12/generic-dnd-flyer.png
ORGANIZER;CN="DM Danielle":MAILTO:outreach@themissingpiecegames.com
END:VEVENT
BEGIN:VEVENT
DTSTART;TZID=America/Los_Angeles:20250318T160000
DTEND;TZID=America/Los_Angeles:20250318T183000
DTSTAMP:20260421T022237
CREATED:20241217T045317Z
LAST-MODIFIED:20250211T184809Z
UID:10003955-1742313600-1742322600@www.themissingpiecegames.com
SUMMARY:After School D&D - Tuesdays - 2025
DESCRIPTION:Join Game Master Danielle and other middle school adventurers to explore fantasy worlds and embark on epic adventures in this PG campaign! You decide how to act and what happens next as we traverse dangerous dungeons\, solve puzzles\, and fight monsters in this role playing game. This campaign will be directed by the players\, so bring a character up to 3rd level or make your own with us! If you have a 5th edition players guide and dice\, please bring them; both can be purchased at the shop beforehand\, but it’s not necessary. Character sheets\, paper\, pencils\, dice\, and books will be available for all players to share. \nWe expect sessions to finish on time and ask that children have a plan for getting home. Early pickups can be arranged ahead of time as necessary\, but they disrupt the immersion and should be avoided if possible. Danielle is an experienced social worker and teen mentor comfortable with managing a variety of feelings/abilities\, however\, if there is something we should be sensitive about\, please note it in the survey\, along with your contact information and plan for getting home. \nNightly Schedule: \n4-5: Games\, character creation\, world building \n(Students can catch up from the week\, play other games from the library\, work on their character build\, or help world build etc.) \n5-5:30: Dinner (food will be available for sale at the cafe counter) \n5:30-6:30: Dungeons and Dragons campaign! \n  \nCampaign Dates: \n6-Week New Year Campaign: Jan 7\, 14\, 21\, 28\, Feb 4\, 11 \nDrop-in Feb 18 (spring break) \n7-week Spring Campaign: Feb 25\, March 4\, 11\, 18\, 25\, April 1\, 8 \nDrop-in April 15 (spring break) \n7-week School Year Finale: April 22\, 29\, May 6\, 13\, 20\, 27\, June 3
URL:https://www.themissingpiecegames.com/event/after-school-dd-tuesdays-2025/2025-03-18/
LOCATION:The Missing Piece\, 4707 California Ave SW B\, Seattle\, WA\, 98116\, United States
CATEGORIES:After School,Roleplaying
ATTACH;FMTTYPE=image/png:https://www.themissingpiecegames.com/wp-content/uploads/2024/12/generic-dnd-flyer.png
ORGANIZER;CN="DM Danielle":MAILTO:outreach@themissingpiecegames.com
END:VEVENT
BEGIN:VEVENT
DTSTART;TZID=America/Los_Angeles:20250324T160000
DTEND;TZID=America/Los_Angeles:20250324T183000
DTSTAMP:20260421T022237
CREATED:20241216T061114Z
LAST-MODIFIED:20250520T171956Z
UID:10003934-1742832000-1742841000@www.themissingpiecegames.com
SUMMARY:After School D&D - Mondays - 2025
DESCRIPTION:Join Game Master Danielle and other middle school adventurers to explore fantasy worlds and embark on epic adventures in this PG campaign! You decide how to act and what happens next as we traverse dangerous dungeons\, solve puzzles\, and fight monsters in this role playing game. This campaign will be directed by the players\, so bring a character up to 3rd level or make your own with us! If you have a 5th edition players guide and dice\, please bring them; both can be purchased at the shop beforehand\, but it’s not necessary. Character sheets\, paper\, pencils\, dice\, and books will be available for all players to share. \nWe expect sessions to finish on time and ask that children have a plan for getting home. Early pickups can be arranged ahead of time as necessary\, but they disrupt the immersion and should be avoided if possible. Danielle is an experienced social worker and teen mentor comfortable with managing a variety of feelings/abilities\, however\, if there is something we should be sensitive about\, please note it in the survey\, along with your contact information and plan for getting home. \nNightly Schedule: \n4-5: Games\, character creation\, world building \n(Students can catch up from the week\, play other games from the library\, work on their character build\, or help world build etc.) \n5-5:30: Dinner (food will be available for sale at the cafe counter) \n5:30-6:30: Dungeons and Dragons campaign! \n  \nCampaigns Dates: \nNew Year (5+2): Jan 6\, 13\, 27\, Feb 3\, 10 \nDrop-In tickets for 20 Jan & 17 Feb (no school days) \nSpring (7): Feb 24\, Mar 3\, 10\, 17\, 24\, 31\, Apr 7 \nDrop-In tickets for April 14 (spring break) \nSchool Year Finale (6+1): April 21\, 28\, May 5\, 12\, 19\, June 2 \nDrop-in tickets for May 26 (Memorial Day) \n 
URL:https://www.themissingpiecegames.com/event/after-school-dd-mondays-2025/2025-03-24/
LOCATION:The Missing Piece\, 4707 California Ave SW B\, Seattle\, WA\, 98116\, United States
CATEGORIES:After School,Roleplaying
ATTACH;FMTTYPE=image/png:https://www.themissingpiecegames.com/wp-content/uploads/2024/12/generic-dnd-flyer.png
ORGANIZER;CN="DM Danielle":MAILTO:outreach@themissingpiecegames.com
END:VEVENT
BEGIN:VEVENT
DTSTART;TZID=America/Los_Angeles:20250325T160000
DTEND;TZID=America/Los_Angeles:20250325T183000
DTSTAMP:20260421T022237
CREATED:20241217T045317Z
LAST-MODIFIED:20250211T184809Z
UID:10003956-1742918400-1742927400@www.themissingpiecegames.com
SUMMARY:After School D&D - Tuesdays - 2025
DESCRIPTION:Join Game Master Danielle and other middle school adventurers to explore fantasy worlds and embark on epic adventures in this PG campaign! You decide how to act and what happens next as we traverse dangerous dungeons\, solve puzzles\, and fight monsters in this role playing game. This campaign will be directed by the players\, so bring a character up to 3rd level or make your own with us! If you have a 5th edition players guide and dice\, please bring them; both can be purchased at the shop beforehand\, but it’s not necessary. Character sheets\, paper\, pencils\, dice\, and books will be available for all players to share. \nWe expect sessions to finish on time and ask that children have a plan for getting home. Early pickups can be arranged ahead of time as necessary\, but they disrupt the immersion and should be avoided if possible. Danielle is an experienced social worker and teen mentor comfortable with managing a variety of feelings/abilities\, however\, if there is something we should be sensitive about\, please note it in the survey\, along with your contact information and plan for getting home. \nNightly Schedule: \n4-5: Games\, character creation\, world building \n(Students can catch up from the week\, play other games from the library\, work on their character build\, or help world build etc.) \n5-5:30: Dinner (food will be available for sale at the cafe counter) \n5:30-6:30: Dungeons and Dragons campaign! \n  \nCampaign Dates: \n6-Week New Year Campaign: Jan 7\, 14\, 21\, 28\, Feb 4\, 11 \nDrop-in Feb 18 (spring break) \n7-week Spring Campaign: Feb 25\, March 4\, 11\, 18\, 25\, April 1\, 8 \nDrop-in April 15 (spring break) \n7-week School Year Finale: April 22\, 29\, May 6\, 13\, 20\, 27\, June 3
URL:https://www.themissingpiecegames.com/event/after-school-dd-tuesdays-2025/2025-03-25/
LOCATION:The Missing Piece\, 4707 California Ave SW B\, Seattle\, WA\, 98116\, United States
CATEGORIES:After School,Roleplaying
ATTACH;FMTTYPE=image/png:https://www.themissingpiecegames.com/wp-content/uploads/2024/12/generic-dnd-flyer.png
ORGANIZER;CN="DM Danielle":MAILTO:outreach@themissingpiecegames.com
END:VEVENT
BEGIN:VEVENT
DTSTART;TZID=America/Los_Angeles:20250329T180000
DTEND;TZID=America/Los_Angeles:20250329T220000
DTSTAMP:20260421T022237
CREATED:20250221T233149Z
LAST-MODIFIED:20250221T233149Z
UID:10003668-1743271200-1743285600@www.themissingpiecegames.com
SUMMARY:Jigsaw Puzzle Race!
DESCRIPTION:The Jigsaw Puzzle Race is back on!  Tables of 4 will compete to build the same 500 piece jigsaw puzzle the fastest. It’s $5 per person to enter\, and everyone at the winner’s table gets a 2-hour voucher for booking time in our exclusive VIP rooms. (That’s $40 in value for each person at the winning table!).  Also\, someone from your table can take home the puzzle. The image set for this event posting was from one of our previous puzzle races. The puzzle this time will be a surprise for everyone. \nGrab some friends and sign up for your tickets right here on this page to reserve your spot.  You can sign up individually as well and see what new friends you can make on puzzle day. (If you sign up individually and don’t have a table preference\, we suggest signing up for a seat at a table that is already partially filled if possible. That way you won’t be at a table by yourself against a full table at the event!) \nIf the event fills up\, you can sign up for the waitlist below as well. We often get last minute cancellations and it helps to have some people on standby to fill in the available seats. If there are no open spots\, you can always build another puzzle with the other waitlisters for fun!
URL:https://www.themissingpiecegames.com/event/jigsaw-puzzle-race-20/
LOCATION:The Missing Piece\, 4707 California Ave SW B\, Seattle\, WA\, 98116\, United States
CATEGORIES:General
ATTACH;FMTTYPE=image/jpeg:https://www.themissingpiecegames.com/wp-content/uploads/2023/11/graphic.jpg
ORGANIZER;CN="The Missing Piece Games":MAILTO:hello@themissingpiecegames.com
END:VEVENT
BEGIN:VEVENT
DTSTART;TZID=America/Los_Angeles:20250331T160000
DTEND;TZID=America/Los_Angeles:20250331T183000
DTSTAMP:20260421T022237
CREATED:20241216T061114Z
LAST-MODIFIED:20250520T171956Z
UID:10003935-1743436800-1743445800@www.themissingpiecegames.com
SUMMARY:After School D&D - Mondays - 2025
DESCRIPTION:Join Game Master Danielle and other middle school adventurers to explore fantasy worlds and embark on epic adventures in this PG campaign! You decide how to act and what happens next as we traverse dangerous dungeons\, solve puzzles\, and fight monsters in this role playing game. This campaign will be directed by the players\, so bring a character up to 3rd level or make your own with us! If you have a 5th edition players guide and dice\, please bring them; both can be purchased at the shop beforehand\, but it’s not necessary. Character sheets\, paper\, pencils\, dice\, and books will be available for all players to share. \nWe expect sessions to finish on time and ask that children have a plan for getting home. Early pickups can be arranged ahead of time as necessary\, but they disrupt the immersion and should be avoided if possible. Danielle is an experienced social worker and teen mentor comfortable with managing a variety of feelings/abilities\, however\, if there is something we should be sensitive about\, please note it in the survey\, along with your contact information and plan for getting home. \nNightly Schedule: \n4-5: Games\, character creation\, world building \n(Students can catch up from the week\, play other games from the library\, work on their character build\, or help world build etc.) \n5-5:30: Dinner (food will be available for sale at the cafe counter) \n5:30-6:30: Dungeons and Dragons campaign! \n  \nCampaigns Dates: \nNew Year (5+2): Jan 6\, 13\, 27\, Feb 3\, 10 \nDrop-In tickets for 20 Jan & 17 Feb (no school days) \nSpring (7): Feb 24\, Mar 3\, 10\, 17\, 24\, 31\, Apr 7 \nDrop-In tickets for April 14 (spring break) \nSchool Year Finale (6+1): April 21\, 28\, May 5\, 12\, 19\, June 2 \nDrop-in tickets for May 26 (Memorial Day) \n 
URL:https://www.themissingpiecegames.com/event/after-school-dd-mondays-2025/2025-03-31/
LOCATION:The Missing Piece\, 4707 California Ave SW B\, Seattle\, WA\, 98116\, United States
CATEGORIES:After School,Roleplaying
ATTACH;FMTTYPE=image/png:https://www.themissingpiecegames.com/wp-content/uploads/2024/12/generic-dnd-flyer.png
ORGANIZER;CN="DM Danielle":MAILTO:outreach@themissingpiecegames.com
END:VEVENT
END:VCALENDAR