BEGIN:VCALENDAR
VERSION:2.0
PRODID:-//The Missing Piece - ECPv6.15.16//NONSGML v1.0//EN
CALSCALE:GREGORIAN
METHOD:PUBLISH
X-ORIGINAL-URL:https://www.themissingpiecegames.com
X-WR-CALDESC:Events for The Missing Piece
REFRESH-INTERVAL;VALUE=DURATION:PT1H
X-Robots-Tag:noindex
X-PUBLISHED-TTL:PT1H
BEGIN:VTIMEZONE
TZID:America/Los_Angeles
BEGIN:DAYLIGHT
TZOFFSETFROM:-0800
TZOFFSETTO:-0700
TZNAME:PDT
DTSTART:20230312T100000
END:DAYLIGHT
BEGIN:STANDARD
TZOFFSETFROM:-0700
TZOFFSETTO:-0800
TZNAME:PST
DTSTART:20231105T090000
END:STANDARD
BEGIN:DAYLIGHT
TZOFFSETFROM:-0800
TZOFFSETTO:-0700
TZNAME:PDT
DTSTART:20240310T100000
END:DAYLIGHT
BEGIN:STANDARD
TZOFFSETFROM:-0700
TZOFFSETTO:-0800
TZNAME:PST
DTSTART:20241103T090000
END:STANDARD
BEGIN:DAYLIGHT
TZOFFSETFROM:-0800
TZOFFSETTO:-0700
TZNAME:PDT
DTSTART:20250309T100000
END:DAYLIGHT
BEGIN:STANDARD
TZOFFSETFROM:-0700
TZOFFSETTO:-0800
TZNAME:PST
DTSTART:20251102T090000
END:STANDARD
BEGIN:DAYLIGHT
TZOFFSETFROM:-0800
TZOFFSETTO:-0700
TZNAME:PDT
DTSTART:20260308T100000
END:DAYLIGHT
BEGIN:STANDARD
TZOFFSETFROM:-0700
TZOFFSETTO:-0800
TZNAME:PST
DTSTART:20261101T090000
END:STANDARD
END:VTIMEZONE
BEGIN:VEVENT
DTSTART;TZID=America/Los_Angeles:20251207T110000
DTEND;TZID=America/Los_Angeles:20251207T170000
DTSTAMP:20260422T030445
CREATED:20251129T203545Z
LAST-MODIFIED:20251129T203545Z
UID:10003999-1765105200-1765126800@www.themissingpiecegames.com
SUMMARY:Sorcery: Contested Realms Gothic Release Event
DESCRIPTION:GOTHIC IS HERE! \nWe will be celebrating Gothic on release weekend at The Missing Piece starting at 11am! \nDay/Time: 11:00am\, Sunday December 7th. \nEntry Fee: $40 \nFormat: Gothic Sealed. Before the tournament begins\, players will be given 6 booster packs of the new set to build their decks! Your Spellbook deck must be at least 24 cards\, while your Atlas deck must be at least 12 cards. \nRounds: The number of rounds will be determined by how many players attend the event. please be sure to plan for at least 4 rounds of play. \nPrizes: All players will be given some amount of prize support for participating\, including packs and promotional items. First place will win a booster box of the new Gothic set! \nDon’t forget\, The Missing Piece recently moved locations! Their new address is 4707 California Ave SW B\, and they can be found behind the Keybank at the Alaska Junction in West Seattle.
URL:https://www.themissingpiecegames.com/event/sorcery-contested-realms-gothic-release-event/
LOCATION:The Missing Piece\, 4707 California Ave SW B\, Seattle\, WA\, 98116\, United States
CATEGORIES:Collectable Card Games
ATTACH;FMTTYPE=image/jpeg:https://www.themissingpiecegames.com/wp-content/uploads/2025/11/Sorcery_Gothic-e1764447588211.jpg
END:VEVENT
BEGIN:VEVENT
DTSTART;TZID=America/Los_Angeles:20250125T120000
DTEND;TZID=America/Los_Angeles:20250125T170000
DTSTAMP:20260422T030445
CREATED:20250121T005554Z
LAST-MODIFIED:20250121T005725Z
UID:10003976-1737806400-1737824400@www.themissingpiecegames.com
SUMMARY:Sorcery: Beta & Arthurian Legends Sealed Event
DESCRIPTION:Sorcerers! Let’s meet again for more Sealed action! \nFORMAT: \nSealed\, with a mix of packs from both Beta and AL \nPlayers will open SIX packs. 3 from the Beta set and and 3 from the new Arthurian Legends set. Players build Sealed decks according to the following rules: \n1 Avatar. Either the supplied Avatar\, or any Avatar you open in your boosters.\nYour Spellbook will contain at least 24 cards – your arsenal of minions\, magics\, auras\, and artifacts.\nYour Atlas will contain at least 12 cards – your Sites with which you’ll construct the realm around you.\nThere is no deckbuilding constraint on cards according to their rarity!\nPlayers can use any number of supplied Sites (or they can bring their own) to supplement any they opened and wish to play in their decks. \nThe number of rounds in the tournament will be based on attendance. If the event fills at 16\, we’ll do 4 rounds. \nDAY OF INFO:\nThe event starts at 12:00 p.m. PST. Please arrive at least 10 minutes before the start time to ensure a smooth start. \nPlease register on the Sorcery Play Network ahead of time. If you do not have an account\, please create one ahead of time at play.sorcerytcg.com/events \nTicket purchase ensures a seat at the round table. While not required\, it is strongly encouraged as space is limited. After purchasing a ticket\, register with the Sorcery Play Network where pairing will occur at the time of the event. \nPlay Network Event: https://play.sorcerytcg.com/events/d047c390-1ce7-4ad9-a0ed-b6823f260deb \nPRIZE SUPPORT:\n1 pack per win\n1st: AL “The Champion” promo\, AL sealed box\, 1st choice of store kit playmats\n2nd: “Sorcerer” AL Frazetta promo\, 2nd choice of store kit playmats\n3rd: “Sorcerer” AL Frazetta promo\n4th: “Sorcerer” AL Frazetta promo \nRANDOM DROPS:\nIf you stay for all 4 rounds\, we’ll be raffling off some additional prizes! Playmats\, Promos\, and some sealed Sorcery.\nLooking forward to seeing you all there!
URL:https://www.themissingpiecegames.com/event/sorcery-arthurian-legends-sealed-event-2/
LOCATION:The Missing Piece\, 4707 California Ave SW B\, Seattle\, WA\, 98116\, United States
CATEGORIES:Collectable Card Games
ATTACH;FMTTYPE=image/webp:https://www.themissingpiecegames.com/wp-content/uploads/2023/11/Sorcery_Contested_Realm-e1699394397613.webp
END:VEVENT
BEGIN:VEVENT
DTSTART;TZID=America/Los_Angeles:20241005T120000
DTEND;TZID=America/Los_Angeles:20241005T170000
DTSTAMP:20260422T030445
CREATED:20241003T234338Z
LAST-MODIFIED:20241003T234338Z
UID:10003900-1728129600-1728147600@www.themissingpiecegames.com
SUMMARY:Sorcery: Arthurian Legends Sealed Event
DESCRIPTION:PNW Sorcerers! \nArthurian Legends is here! Join us for some lance poking\, knight bashing\, and merlin spell slinging action at our AL release weekend sealed event. \nPurchase tickets below to ensure a seat at the round table. While not required\, it is encouraged as space is limited. After purchasing a ticket\, register with the Sorcery Play Network where pairing will occur at the time of event. \nPlay Network: https://play.sorcerytcg.com/events/b9a5078d-6022-476c-9941-bc434490580f \nWe got some exciting new limited rules in effect and will be utilizing the new draft kits: \n\nSpellslinger Avatar: new default avatar replacing the Sorcerer\, increasing your starting spell hand by +1. All avatars pulled from packs are legal to use\nNew basic sites: these sites will fill your atlas. They only provide mana and threshold\, increasing the power of pulled sites from your packs!\nSpellbook minimum reduced by 1. Minimum spellbook size now 24 spells (atlas remains at 12)\n\n11:00am – Start checking in via the play network website \n12:00pm – Begin arriving and checking in if you haven’t already. If the event is full and there are no shows\, we’ll begin filling in the spots. This is also a great time to get to know the other participants! \n12:15pm sharp – Deckbuilding begins. Players will have 45 minutes to build a 24 card Spellbook and 12 card Atlas from 6 booster packs. \n01:00pm – Round 1 begins! There will be four 50 minute rounds\, during which players will compete in best-of-1 games with 10 minute breaks between rounds.\n \nPrizes: 1 pack per win\, guaranteed pack even if no wins! Winner gets a box of Arthurian Legends. We’ll have some prizes given at random for those who stick around for the entire event. \nNote: Play Network round timer defaults to 30 min and can’t be changed. Rounds will be 50 minutes\, NOT 30 minutes. \nThe Missing Piece has both Arthurian Legends and Beta wave 2 in stock. \nLooking forward to seeing you all there Contesting the Realm!
URL:https://www.themissingpiecegames.com/event/sorcery-arthurian-legends-sealed-event/
LOCATION:The Missing Piece\, 4707 California Ave SW B\, Seattle\, WA\, 98116\, United States
CATEGORIES:Collectable Card Games
ATTACH;FMTTYPE=image/webp:https://www.themissingpiecegames.com/wp-content/uploads/2023/11/Sorcery_Contested_Realm-e1699394397613.webp
END:VEVENT
END:VCALENDAR