BEGIN:VCALENDAR
VERSION:2.0
PRODID:-//The Missing Piece - ECPv6.15.16//NONSGML v1.0//EN
CALSCALE:GREGORIAN
METHOD:PUBLISH
X-ORIGINAL-URL:https://www.themissingpiecegames.com
X-WR-CALDESC:Events for The Missing Piece
REFRESH-INTERVAL;VALUE=DURATION:PT1H
X-Robots-Tag:noindex
X-PUBLISHED-TTL:PT1H
BEGIN:VTIMEZONE
TZID:America/Los_Angeles
BEGIN:DAYLIGHT
TZOFFSETFROM:-0800
TZOFFSETTO:-0700
TZNAME:PDT
DTSTART:20200308T100000
END:DAYLIGHT
BEGIN:STANDARD
TZOFFSETFROM:-0700
TZOFFSETTO:-0800
TZNAME:PST
DTSTART:20201101T090000
END:STANDARD
BEGIN:DAYLIGHT
TZOFFSETFROM:-0800
TZOFFSETTO:-0700
TZNAME:PDT
DTSTART:20210314T100000
END:DAYLIGHT
BEGIN:STANDARD
TZOFFSETFROM:-0700
TZOFFSETTO:-0800
TZNAME:PST
DTSTART:20211107T090000
END:STANDARD
BEGIN:DAYLIGHT
TZOFFSETFROM:-0800
TZOFFSETTO:-0700
TZNAME:PDT
DTSTART:20220313T100000
END:DAYLIGHT
BEGIN:STANDARD
TZOFFSETFROM:-0700
TZOFFSETTO:-0800
TZNAME:PST
DTSTART:20221106T090000
END:STANDARD
END:VTIMEZONE
BEGIN:VEVENT
DTSTART;TZID=America/Los_Angeles:20211001T180000
DTEND;TZID=America/Los_Angeles:20211001T220000
DTSTAMP:20260419T164739
CREATED:20210627T024824Z
LAST-MODIFIED:20241003T210727Z
UID:10003261-1633111200-1633125600@www.themissingpiecegames.com
SUMMARY:Dungeons & Dragons Adventurers League
DESCRIPTION:The Seattle D&D Adventurers League is hosting games at The Missing Piece every Friday!  Players of all experience levels are welcome to join.  Use their event page on Warhorn to find more information about the event and to sign up for a spot.
URL:https://www.themissingpiecegames.com/event/dungeons-dragons-adventurers-league-2/2021-10-01/
LOCATION:The Missing Piece\, 4707 California Ave SW B\, Seattle\, WA\, 98116\, United States
CATEGORIES:Roleplaying
ATTACH;FMTTYPE=image/jpeg:https://www.themissingpiecegames.com/wp-content/uploads/2021/06/dnd_facebook_cover_photo.jpg
END:VEVENT
BEGIN:VEVENT
DTSTART;TZID=America/Los_Angeles:20210930T180000
DTEND;TZID=America/Los_Angeles:20210930T220000
DTSTAMP:20260419T164739
CREATED:20210627T024824Z
LAST-MODIFIED:20241003T210727Z
UID:10003260-1633024800-1633039200@www.themissingpiecegames.com
SUMMARY:Dungeons & Dragons Adventurers League
DESCRIPTION:The Seattle D&D Adventurers League is hosting games at The Missing Piece every Friday!  Players of all experience levels are welcome to join.  Use their event page on Warhorn to find more information about the event and to sign up for a spot.
URL:https://www.themissingpiecegames.com/event/dungeons-dragons-adventurers-league-2/2021-09-30/
LOCATION:The Missing Piece\, 4707 California Ave SW B\, Seattle\, WA\, 98116\, United States
CATEGORIES:Roleplaying
ATTACH;FMTTYPE=image/jpeg:https://www.themissingpiecegames.com/wp-content/uploads/2021/06/dnd_facebook_cover_photo.jpg
END:VEVENT
END:VCALENDAR