BEGIN:VCALENDAR
VERSION:2.0
PRODID:-//The Missing Piece - ECPv6.15.16//NONSGML v1.0//EN
CALSCALE:GREGORIAN
METHOD:PUBLISH
X-WR-CALNAME:The Missing Piece
X-ORIGINAL-URL:https://www.themissingpiecegames.com
X-WR-CALDESC:Events for The Missing Piece
REFRESH-INTERVAL;VALUE=DURATION:PT1H
X-Robots-Tag:noindex
X-PUBLISHED-TTL:PT1H
BEGIN:VTIMEZONE
TZID:America/Los_Angeles
BEGIN:DAYLIGHT
TZOFFSETFROM:-0800
TZOFFSETTO:-0700
TZNAME:PDT
DTSTART:20250309T100000
END:DAYLIGHT
BEGIN:STANDARD
TZOFFSETFROM:-0700
TZOFFSETTO:-0800
TZNAME:PST
DTSTART:20251102T090000
END:STANDARD
BEGIN:DAYLIGHT
TZOFFSETFROM:-0800
TZOFFSETTO:-0700
TZNAME:PDT
DTSTART:20260308T100000
END:DAYLIGHT
BEGIN:STANDARD
TZOFFSETFROM:-0700
TZOFFSETTO:-0800
TZNAME:PST
DTSTART:20261101T090000
END:STANDARD
BEGIN:DAYLIGHT
TZOFFSETFROM:-0800
TZOFFSETTO:-0700
TZNAME:PDT
DTSTART:20270314T100000
END:DAYLIGHT
BEGIN:STANDARD
TZOFFSETFROM:-0700
TZOFFSETTO:-0800
TZNAME:PST
DTSTART:20271107T090000
END:STANDARD
END:VTIMEZONE
BEGIN:VEVENT
DTSTART;TZID=America/Los_Angeles:20260308T093000
DTEND;TZID=America/Los_Angeles:20260308T113000
DTSTAMP:20260421T095639
CREATED:20260213T065251Z
LAST-MODIFIED:20260329T222832Z
UID:10003461-1772962200-1772969400@www.themissingpiecegames.com
SUMMARY:American Mah Jongg
DESCRIPTION:All playing levels welcome! We are an open\, friendly group of experienced and newer players who play American Mah Jongg and follow NMJL rules. Please bring a current NMJL card with you. If you don’t have one\, someone usually has an extra card to loan out. For more info email Stacey Rea: stacey1955@gmail.com.
URL:https://www.themissingpiecegames.com/event/american-mah-jongg/2026-03-08/
LOCATION:The Missing Piece\, 4707 California Ave SW B\, Seattle\, WA\, 98116\, United States
CATEGORIES:General
ORGANIZER;CN="Stacey Rea":MAILTO:stacey1955@gmail.com
END:VEVENT
BEGIN:VEVENT
DTSTART;TZID=America/Los_Angeles:20260304T140000
DTEND;TZID=America/Los_Angeles:20260304T170000
DTSTAMP:20260421T095639
CREATED:20230618T210626Z
LAST-MODIFIED:20260329T222705Z
UID:10003448-1772632800-1772643600@www.themissingpiecegames.com
SUMMARY:American Mah Jongg
DESCRIPTION:All playing levels welcome! We are an open\, friendly group of experienced and newer players who play American Mah Jongg and follow NMJL rules. Please bring a current NMJL card with you. If you don’t have one\, someone usually has an extra card to loan out. For more info email Stacey Rea: stacey1955@gmail.com.
URL:https://www.themissingpiecegames.com/event/american-mah-jongg-2/2026-03-04/
LOCATION:The Missing Piece\, 4707 California Ave SW B\, Seattle\, WA\, 98116\, United States
CATEGORIES:General
ORGANIZER;CN="Stacey Rea":MAILTO:stacey1955@gmail.com
END:VEVENT
BEGIN:VEVENT
DTSTART;TZID=America/Los_Angeles:20260301T093000
DTEND;TZID=America/Los_Angeles:20260301T113000
DTSTAMP:20260421T095639
CREATED:20260213T065251Z
LAST-MODIFIED:20260329T222832Z
UID:10003460-1772357400-1772364600@www.themissingpiecegames.com
SUMMARY:American Mah Jongg
DESCRIPTION:All playing levels welcome! We are an open\, friendly group of experienced and newer players who play American Mah Jongg and follow NMJL rules. Please bring a current NMJL card with you. If you don’t have one\, someone usually has an extra card to loan out. For more info email Stacey Rea: stacey1955@gmail.com.
URL:https://www.themissingpiecegames.com/event/american-mah-jongg/2026-03-01/
LOCATION:The Missing Piece\, 4707 California Ave SW B\, Seattle\, WA\, 98116\, United States
CATEGORIES:General
ORGANIZER;CN="Stacey Rea":MAILTO:stacey1955@gmail.com
END:VEVENT
BEGIN:VEVENT
DTSTART;TZID=America/Los_Angeles:20260225T140000
DTEND;TZID=America/Los_Angeles:20260225T170000
DTSTAMP:20260421T095639
CREATED:20230618T210626Z
LAST-MODIFIED:20260329T222705Z
UID:10003447-1772028000-1772038800@www.themissingpiecegames.com
SUMMARY:American Mah Jongg
DESCRIPTION:All playing levels welcome! We are an open\, friendly group of experienced and newer players who play American Mah Jongg and follow NMJL rules. Please bring a current NMJL card with you. If you don’t have one\, someone usually has an extra card to loan out. For more info email Stacey Rea: stacey1955@gmail.com.
URL:https://www.themissingpiecegames.com/event/american-mah-jongg-2/2026-02-25/
LOCATION:The Missing Piece\, 4707 California Ave SW B\, Seattle\, WA\, 98116\, United States
CATEGORIES:General
ORGANIZER;CN="Stacey Rea":MAILTO:stacey1955@gmail.com
END:VEVENT
BEGIN:VEVENT
DTSTART;TZID=America/Los_Angeles:20260222T093000
DTEND;TZID=America/Los_Angeles:20260222T113000
DTSTAMP:20260421T095639
CREATED:20260213T065251Z
LAST-MODIFIED:20260329T222832Z
UID:10003459-1771752600-1771759800@www.themissingpiecegames.com
SUMMARY:American Mah Jongg
DESCRIPTION:All playing levels welcome! We are an open\, friendly group of experienced and newer players who play American Mah Jongg and follow NMJL rules. Please bring a current NMJL card with you. If you don’t have one\, someone usually has an extra card to loan out. For more info email Stacey Rea: stacey1955@gmail.com.
URL:https://www.themissingpiecegames.com/event/american-mah-jongg/2026-02-22/
LOCATION:The Missing Piece\, 4707 California Ave SW B\, Seattle\, WA\, 98116\, United States
CATEGORIES:General
ORGANIZER;CN="Stacey Rea":MAILTO:stacey1955@gmail.com
END:VEVENT
BEGIN:VEVENT
DTSTART;TZID=America/Los_Angeles:20260218T140000
DTEND;TZID=America/Los_Angeles:20260218T170000
DTSTAMP:20260421T095639
CREATED:20230618T210626Z
LAST-MODIFIED:20260329T222705Z
UID:10003446-1771423200-1771434000@www.themissingpiecegames.com
SUMMARY:American Mah Jongg
DESCRIPTION:All playing levels welcome! We are an open\, friendly group of experienced and newer players who play American Mah Jongg and follow NMJL rules. Please bring a current NMJL card with you. If you don’t have one\, someone usually has an extra card to loan out. For more info email Stacey Rea: stacey1955@gmail.com.
URL:https://www.themissingpiecegames.com/event/american-mah-jongg-2/2026-02-18/
LOCATION:The Missing Piece\, 4707 California Ave SW B\, Seattle\, WA\, 98116\, United States
CATEGORIES:General
ORGANIZER;CN="Stacey Rea":MAILTO:stacey1955@gmail.com
END:VEVENT
BEGIN:VEVENT
DTSTART;TZID=America/Los_Angeles:20260215T093000
DTEND;TZID=America/Los_Angeles:20260215T113000
DTSTAMP:20260421T095639
CREATED:20260213T065251Z
LAST-MODIFIED:20260329T222832Z
UID:10003458-1771147800-1771155000@www.themissingpiecegames.com
SUMMARY:American Mah Jongg
DESCRIPTION:All playing levels welcome! We are an open\, friendly group of experienced and newer players who play American Mah Jongg and follow NMJL rules. Please bring a current NMJL card with you. If you don’t have one\, someone usually has an extra card to loan out. For more info email Stacey Rea: stacey1955@gmail.com.
URL:https://www.themissingpiecegames.com/event/american-mah-jongg/2026-02-15/
LOCATION:The Missing Piece\, 4707 California Ave SW B\, Seattle\, WA\, 98116\, United States
CATEGORIES:General
ORGANIZER;CN="Stacey Rea":MAILTO:stacey1955@gmail.com
END:VEVENT
BEGIN:VEVENT
DTSTART;TZID=America/Los_Angeles:20260211T140000
DTEND;TZID=America/Los_Angeles:20260211T170000
DTSTAMP:20260421T095639
CREATED:20230618T210626Z
LAST-MODIFIED:20260329T222705Z
UID:10003445-1770818400-1770829200@www.themissingpiecegames.com
SUMMARY:American Mah Jongg
DESCRIPTION:All playing levels welcome! We are an open\, friendly group of experienced and newer players who play American Mah Jongg and follow NMJL rules. Please bring a current NMJL card with you. If you don’t have one\, someone usually has an extra card to loan out. For more info email Stacey Rea: stacey1955@gmail.com.
URL:https://www.themissingpiecegames.com/event/american-mah-jongg-2/2026-02-11/
LOCATION:The Missing Piece\, 4707 California Ave SW B\, Seattle\, WA\, 98116\, United States
CATEGORIES:General
ORGANIZER;CN="Stacey Rea":MAILTO:stacey1955@gmail.com
END:VEVENT
BEGIN:VEVENT
DTSTART;TZID=America/Los_Angeles:20260208T093000
DTEND;TZID=America/Los_Angeles:20260208T113000
DTSTAMP:20260421T095639
CREATED:20260213T065251Z
LAST-MODIFIED:20260329T222832Z
UID:10003457-1770543000-1770550200@www.themissingpiecegames.com
SUMMARY:American Mah Jongg
DESCRIPTION:All playing levels welcome! We are an open\, friendly group of experienced and newer players who play American Mah Jongg and follow NMJL rules. Please bring a current NMJL card with you. If you don’t have one\, someone usually has an extra card to loan out. For more info email Stacey Rea: stacey1955@gmail.com.
URL:https://www.themissingpiecegames.com/event/american-mah-jongg/2026-02-08/
LOCATION:The Missing Piece\, 4707 California Ave SW B\, Seattle\, WA\, 98116\, United States
CATEGORIES:General
ORGANIZER;CN="Stacey Rea":MAILTO:stacey1955@gmail.com
END:VEVENT
BEGIN:VEVENT
DTSTART;TZID=America/Los_Angeles:20260204T140000
DTEND;TZID=America/Los_Angeles:20260204T170000
DTSTAMP:20260421T095639
CREATED:20230618T210626Z
LAST-MODIFIED:20260329T222705Z
UID:10003444-1770213600-1770224400@www.themissingpiecegames.com
SUMMARY:American Mah Jongg
DESCRIPTION:All playing levels welcome! We are an open\, friendly group of experienced and newer players who play American Mah Jongg and follow NMJL rules. Please bring a current NMJL card with you. If you don’t have one\, someone usually has an extra card to loan out. For more info email Stacey Rea: stacey1955@gmail.com.
URL:https://www.themissingpiecegames.com/event/american-mah-jongg-2/2026-02-04/
LOCATION:The Missing Piece\, 4707 California Ave SW B\, Seattle\, WA\, 98116\, United States
CATEGORIES:General
ORGANIZER;CN="Stacey Rea":MAILTO:stacey1955@gmail.com
END:VEVENT
BEGIN:VEVENT
DTSTART;TZID=America/Los_Angeles:20260201T093000
DTEND;TZID=America/Los_Angeles:20260201T113000
DTSTAMP:20260421T095639
CREATED:20260213T065251Z
LAST-MODIFIED:20260329T222832Z
UID:10003456-1769938200-1769945400@www.themissingpiecegames.com
SUMMARY:American Mah Jongg
DESCRIPTION:All playing levels welcome! We are an open\, friendly group of experienced and newer players who play American Mah Jongg and follow NMJL rules. Please bring a current NMJL card with you. If you don’t have one\, someone usually has an extra card to loan out. For more info email Stacey Rea: stacey1955@gmail.com.
URL:https://www.themissingpiecegames.com/event/american-mah-jongg/2026-02-01/
LOCATION:The Missing Piece\, 4707 California Ave SW B\, Seattle\, WA\, 98116\, United States
CATEGORIES:General
ORGANIZER;CN="Stacey Rea":MAILTO:stacey1955@gmail.com
END:VEVENT
BEGIN:VEVENT
DTSTART;TZID=America/Los_Angeles:20260128T140000
DTEND;TZID=America/Los_Angeles:20260128T170000
DTSTAMP:20260421T095639
CREATED:20230618T210626Z
LAST-MODIFIED:20260329T222705Z
UID:10003443-1769608800-1769619600@www.themissingpiecegames.com
SUMMARY:American Mah Jongg
DESCRIPTION:All playing levels welcome! We are an open\, friendly group of experienced and newer players who play American Mah Jongg and follow NMJL rules. Please bring a current NMJL card with you. If you don’t have one\, someone usually has an extra card to loan out. For more info email Stacey Rea: stacey1955@gmail.com.
URL:https://www.themissingpiecegames.com/event/american-mah-jongg-2/2026-01-28/
LOCATION:The Missing Piece\, 4707 California Ave SW B\, Seattle\, WA\, 98116\, United States
CATEGORIES:General
ORGANIZER;CN="Stacey Rea":MAILTO:stacey1955@gmail.com
END:VEVENT
BEGIN:VEVENT
DTSTART;TZID=America/Los_Angeles:20260125T093000
DTEND;TZID=America/Los_Angeles:20260125T113000
DTSTAMP:20260421T095639
CREATED:20260213T065251Z
LAST-MODIFIED:20260329T222832Z
UID:10003455-1769333400-1769340600@www.themissingpiecegames.com
SUMMARY:American Mah Jongg
DESCRIPTION:All playing levels welcome! We are an open\, friendly group of experienced and newer players who play American Mah Jongg and follow NMJL rules. Please bring a current NMJL card with you. If you don’t have one\, someone usually has an extra card to loan out. For more info email Stacey Rea: stacey1955@gmail.com.
URL:https://www.themissingpiecegames.com/event/american-mah-jongg/2026-01-25/
LOCATION:The Missing Piece\, 4707 California Ave SW B\, Seattle\, WA\, 98116\, United States
CATEGORIES:General
ORGANIZER;CN="Stacey Rea":MAILTO:stacey1955@gmail.com
END:VEVENT
BEGIN:VEVENT
DTSTART;TZID=America/Los_Angeles:20260121T140000
DTEND;TZID=America/Los_Angeles:20260121T170000
DTSTAMP:20260421T095639
CREATED:20230618T210626Z
LAST-MODIFIED:20260329T222705Z
UID:10003442-1769004000-1769014800@www.themissingpiecegames.com
SUMMARY:American Mah Jongg
DESCRIPTION:All playing levels welcome! We are an open\, friendly group of experienced and newer players who play American Mah Jongg and follow NMJL rules. Please bring a current NMJL card with you. If you don’t have one\, someone usually has an extra card to loan out. For more info email Stacey Rea: stacey1955@gmail.com.
URL:https://www.themissingpiecegames.com/event/american-mah-jongg-2/2026-01-21/
LOCATION:The Missing Piece\, 4707 California Ave SW B\, Seattle\, WA\, 98116\, United States
CATEGORIES:General
ORGANIZER;CN="Stacey Rea":MAILTO:stacey1955@gmail.com
END:VEVENT
BEGIN:VEVENT
DTSTART;TZID=America/Los_Angeles:20260118T093000
DTEND;TZID=America/Los_Angeles:20260118T113000
DTSTAMP:20260421T095639
CREATED:20260213T065251Z
LAST-MODIFIED:20260329T222832Z
UID:10003454-1768728600-1768735800@www.themissingpiecegames.com
SUMMARY:American Mah Jongg
DESCRIPTION:All playing levels welcome! We are an open\, friendly group of experienced and newer players who play American Mah Jongg and follow NMJL rules. Please bring a current NMJL card with you. If you don’t have one\, someone usually has an extra card to loan out. For more info email Stacey Rea: stacey1955@gmail.com.
URL:https://www.themissingpiecegames.com/event/american-mah-jongg/2026-01-18/
LOCATION:The Missing Piece\, 4707 California Ave SW B\, Seattle\, WA\, 98116\, United States
CATEGORIES:General
ORGANIZER;CN="Stacey Rea":MAILTO:stacey1955@gmail.com
END:VEVENT
BEGIN:VEVENT
DTSTART;TZID=America/Los_Angeles:20260114T140000
DTEND;TZID=America/Los_Angeles:20260114T170000
DTSTAMP:20260421T095639
CREATED:20230618T210626Z
LAST-MODIFIED:20260329T222705Z
UID:10003441-1768399200-1768410000@www.themissingpiecegames.com
SUMMARY:American Mah Jongg
DESCRIPTION:All playing levels welcome! We are an open\, friendly group of experienced and newer players who play American Mah Jongg and follow NMJL rules. Please bring a current NMJL card with you. If you don’t have one\, someone usually has an extra card to loan out. For more info email Stacey Rea: stacey1955@gmail.com.
URL:https://www.themissingpiecegames.com/event/american-mah-jongg-2/2026-01-14/
LOCATION:The Missing Piece\, 4707 California Ave SW B\, Seattle\, WA\, 98116\, United States
CATEGORIES:General
ORGANIZER;CN="Stacey Rea":MAILTO:stacey1955@gmail.com
END:VEVENT
BEGIN:VEVENT
DTSTART;TZID=America/Los_Angeles:20260111T093000
DTEND;TZID=America/Los_Angeles:20260111T113000
DTSTAMP:20260421T095639
CREATED:20260213T065251Z
LAST-MODIFIED:20260329T222832Z
UID:10003453-1768123800-1768131000@www.themissingpiecegames.com
SUMMARY:American Mah Jongg
DESCRIPTION:All playing levels welcome! We are an open\, friendly group of experienced and newer players who play American Mah Jongg and follow NMJL rules. Please bring a current NMJL card with you. If you don’t have one\, someone usually has an extra card to loan out. For more info email Stacey Rea: stacey1955@gmail.com.
URL:https://www.themissingpiecegames.com/event/american-mah-jongg/2026-01-11/
LOCATION:The Missing Piece\, 4707 California Ave SW B\, Seattle\, WA\, 98116\, United States
CATEGORIES:General
ORGANIZER;CN="Stacey Rea":MAILTO:stacey1955@gmail.com
END:VEVENT
BEGIN:VEVENT
DTSTART;TZID=America/Los_Angeles:20260107T140000
DTEND;TZID=America/Los_Angeles:20260107T170000
DTSTAMP:20260421T095639
CREATED:20230618T210626Z
LAST-MODIFIED:20260329T222705Z
UID:10003440-1767794400-1767805200@www.themissingpiecegames.com
SUMMARY:American Mah Jongg
DESCRIPTION:All playing levels welcome! We are an open\, friendly group of experienced and newer players who play American Mah Jongg and follow NMJL rules. Please bring a current NMJL card with you. If you don’t have one\, someone usually has an extra card to loan out. For more info email Stacey Rea: stacey1955@gmail.com.
URL:https://www.themissingpiecegames.com/event/american-mah-jongg-2/2026-01-07/
LOCATION:The Missing Piece\, 4707 California Ave SW B\, Seattle\, WA\, 98116\, United States
CATEGORIES:General
ORGANIZER;CN="Stacey Rea":MAILTO:stacey1955@gmail.com
END:VEVENT
END:VCALENDAR