BEGIN:VCALENDAR
VERSION:2.0
PRODID:-//The Missing Piece - ECPv6.15.16//NONSGML v1.0//EN
CALSCALE:GREGORIAN
METHOD:PUBLISH
X-ORIGINAL-URL:https://www.themissingpiecegames.com
X-WR-CALDESC:Events for The Missing Piece
REFRESH-INTERVAL;VALUE=DURATION:PT1H
X-Robots-Tag:noindex
X-PUBLISHED-TTL:PT1H
BEGIN:VTIMEZONE
TZID:America/Los_Angeles
BEGIN:DAYLIGHT
TZOFFSETFROM:-0800
TZOFFSETTO:-0700
TZNAME:PDT
DTSTART:20250309T100000
END:DAYLIGHT
BEGIN:STANDARD
TZOFFSETFROM:-0700
TZOFFSETTO:-0800
TZNAME:PST
DTSTART:20251102T090000
END:STANDARD
BEGIN:DAYLIGHT
TZOFFSETFROM:-0800
TZOFFSETTO:-0700
TZNAME:PDT
DTSTART:20260308T100000
END:DAYLIGHT
BEGIN:STANDARD
TZOFFSETFROM:-0700
TZOFFSETTO:-0800
TZNAME:PST
DTSTART:20261101T090000
END:STANDARD
BEGIN:DAYLIGHT
TZOFFSETFROM:-0800
TZOFFSETTO:-0700
TZNAME:PDT
DTSTART:20270314T100000
END:DAYLIGHT
BEGIN:STANDARD
TZOFFSETFROM:-0700
TZOFFSETTO:-0800
TZNAME:PST
DTSTART:20271107T090000
END:STANDARD
END:VTIMEZONE
BEGIN:VEVENT
DTSTART;TZID=America/Los_Angeles:20260125T093000
DTEND;TZID=America/Los_Angeles:20260125T113000
DTSTAMP:20260421T112809
CREATED:20260213T065251Z
LAST-MODIFIED:20260329T222832Z
UID:10003455-1769333400-1769340600@www.themissingpiecegames.com
SUMMARY:American Mah Jongg
DESCRIPTION:All playing levels welcome! We are an open\, friendly group of experienced and newer players who play American Mah Jongg and follow NMJL rules. Please bring a current NMJL card with you. If you don’t have one\, someone usually has an extra card to loan out. For more info email Stacey Rea: stacey1955@gmail.com.
URL:https://www.themissingpiecegames.com/event/american-mah-jongg/2026-01-25/
LOCATION:The Missing Piece\, 4707 California Ave SW B\, Seattle\, WA\, 98116\, United States
CATEGORIES:General
ORGANIZER;CN="Stacey Rea":MAILTO:stacey1955@gmail.com
END:VEVENT
BEGIN:VEVENT
DTSTART;TZID=America/Los_Angeles:20260121T140000
DTEND;TZID=America/Los_Angeles:20260121T170000
DTSTAMP:20260421T112809
CREATED:20230618T210626Z
LAST-MODIFIED:20260329T222705Z
UID:10003442-1769004000-1769014800@www.themissingpiecegames.com
SUMMARY:American Mah Jongg
DESCRIPTION:All playing levels welcome! We are an open\, friendly group of experienced and newer players who play American Mah Jongg and follow NMJL rules. Please bring a current NMJL card with you. If you don’t have one\, someone usually has an extra card to loan out. For more info email Stacey Rea: stacey1955@gmail.com.
URL:https://www.themissingpiecegames.com/event/american-mah-jongg-2/2026-01-21/
LOCATION:The Missing Piece\, 4707 California Ave SW B\, Seattle\, WA\, 98116\, United States
CATEGORIES:General
ORGANIZER;CN="Stacey Rea":MAILTO:stacey1955@gmail.com
END:VEVENT
BEGIN:VEVENT
DTSTART;TZID=America/Los_Angeles:20260118T093000
DTEND;TZID=America/Los_Angeles:20260118T113000
DTSTAMP:20260421T112809
CREATED:20260213T065251Z
LAST-MODIFIED:20260329T222832Z
UID:10003454-1768728600-1768735800@www.themissingpiecegames.com
SUMMARY:American Mah Jongg
DESCRIPTION:All playing levels welcome! We are an open\, friendly group of experienced and newer players who play American Mah Jongg and follow NMJL rules. Please bring a current NMJL card with you. If you don’t have one\, someone usually has an extra card to loan out. For more info email Stacey Rea: stacey1955@gmail.com.
URL:https://www.themissingpiecegames.com/event/american-mah-jongg/2026-01-18/
LOCATION:The Missing Piece\, 4707 California Ave SW B\, Seattle\, WA\, 98116\, United States
CATEGORIES:General
ORGANIZER;CN="Stacey Rea":MAILTO:stacey1955@gmail.com
END:VEVENT
BEGIN:VEVENT
DTSTART;TZID=America/Los_Angeles:20260114T140000
DTEND;TZID=America/Los_Angeles:20260114T170000
DTSTAMP:20260421T112809
CREATED:20230618T210626Z
LAST-MODIFIED:20260329T222705Z
UID:10003441-1768399200-1768410000@www.themissingpiecegames.com
SUMMARY:American Mah Jongg
DESCRIPTION:All playing levels welcome! We are an open\, friendly group of experienced and newer players who play American Mah Jongg and follow NMJL rules. Please bring a current NMJL card with you. If you don’t have one\, someone usually has an extra card to loan out. For more info email Stacey Rea: stacey1955@gmail.com.
URL:https://www.themissingpiecegames.com/event/american-mah-jongg-2/2026-01-14/
LOCATION:The Missing Piece\, 4707 California Ave SW B\, Seattle\, WA\, 98116\, United States
CATEGORIES:General
ORGANIZER;CN="Stacey Rea":MAILTO:stacey1955@gmail.com
END:VEVENT
BEGIN:VEVENT
DTSTART;TZID=America/Los_Angeles:20260111T093000
DTEND;TZID=America/Los_Angeles:20260111T113000
DTSTAMP:20260421T112809
CREATED:20260213T065251Z
LAST-MODIFIED:20260329T222832Z
UID:10003453-1768123800-1768131000@www.themissingpiecegames.com
SUMMARY:American Mah Jongg
DESCRIPTION:All playing levels welcome! We are an open\, friendly group of experienced and newer players who play American Mah Jongg and follow NMJL rules. Please bring a current NMJL card with you. If you don’t have one\, someone usually has an extra card to loan out. For more info email Stacey Rea: stacey1955@gmail.com.
URL:https://www.themissingpiecegames.com/event/american-mah-jongg/2026-01-11/
LOCATION:The Missing Piece\, 4707 California Ave SW B\, Seattle\, WA\, 98116\, United States
CATEGORIES:General
ORGANIZER;CN="Stacey Rea":MAILTO:stacey1955@gmail.com
END:VEVENT
BEGIN:VEVENT
DTSTART;TZID=America/Los_Angeles:20260107T140000
DTEND;TZID=America/Los_Angeles:20260107T170000
DTSTAMP:20260421T112809
CREATED:20230618T210626Z
LAST-MODIFIED:20260329T222705Z
UID:10003440-1767794400-1767805200@www.themissingpiecegames.com
SUMMARY:American Mah Jongg
DESCRIPTION:All playing levels welcome! We are an open\, friendly group of experienced and newer players who play American Mah Jongg and follow NMJL rules. Please bring a current NMJL card with you. If you don’t have one\, someone usually has an extra card to loan out. For more info email Stacey Rea: stacey1955@gmail.com.
URL:https://www.themissingpiecegames.com/event/american-mah-jongg-2/2026-01-07/
LOCATION:The Missing Piece\, 4707 California Ave SW B\, Seattle\, WA\, 98116\, United States
CATEGORIES:General
ORGANIZER;CN="Stacey Rea":MAILTO:stacey1955@gmail.com
END:VEVENT
END:VCALENDAR